BEGIN:VCALENDAR
VERSION:2.0
PRODID:-//jEvents 2.0 for Joomla//EN
CALSCALE:GREGORIAN
METHOD:PUBLISH
BEGIN:VEVENT
UID:96613a6eeeafc39913bfa7873635a52f
CATEGORIES:PvE
CREATED:20180129T130531
SUMMARY:NYR SM and E1 20:00 UTC
DESCRIPTION:Sign up here:\nLink for sign up thread (https://nine-swords.com/forums/18/1
 1089)\n \n
X-ALT-DESC;FMTTYPE=text/html:<p>Sign up here:</p><p><a href="https://nine-swords.com/forums/18/11089">Li
 nk for sign up thread</a></p><p> </p>
DTSTAMP:20260422T013707
DTSTART;TZID=UTC:20180131T200000
DTEND;TZID=UTC:20180131T210000
SEQUENCE:0
TRANSP:OPAQUE
END:VEVENT
END:VCALENDAR