BEGIN:VCALENDAR
VERSION:2.0
PRODID:-//jEvents 2.0 for Joomla//EN
CALSCALE:GREGORIAN
METHOD:PUBLISH
BEGIN:VEVENT
UID:768c9a3ea062463e4ef86054802fc7f1
CATEGORIES:PvE
CREATED:20180201T165506
SUMMARY:Weekend S+E1 New York Raid
DESCRIPTION:<p>Sign-up thread: <a href="forums/18/11116">https://nine-swords.com/forums
 /18/11116</a></p>
DTSTAMP:20260422T044913
DTSTART;TZID=UTC:20180203T200000
DTEND;TZID=UTC:20180203T210000
SEQUENCE:0
TRANSP:OPAQUE
END:VEVENT
END:VCALENDAR