BEGIN:VCALENDAR
VERSION:2.0
PRODID:-//jEvents 2.0 for Joomla//EN
CALSCALE:GREGORIAN
METHOD:PUBLISH
BEGIN:VEVENT
UID:9653776c7c2a48ff7067f1e96d176cce
CATEGORIES:PvE
CREATED:20180219T131402
SUMMARY:NYR Story and E1 - 20:00 UTC Weds 21 Feb
DESCRIPTION:NYR Story and E1\nSign up here:\n \n&lt;a href= https://nine-swords.com/for
 ums/18/11048  (forums/18/11162)&gt;&lt;/a&gt;\n
X-ALT-DESC;FMTTYPE=text/html:<p>NYR Story and E1</p><p>Sign up here:</p><p> </p><p>&lt;a href= <a href="
 forums/18/11162">https://nine-swords.com/forums/18/11048 </a>&gt;&lt;/a&gt;
 </p>
DTSTAMP:20260422T081140
DTSTART;TZID=UTC:20180221T200000
DTEND;TZID=UTC:20180221T210000
SEQUENCE:0
TRANSP:OPAQUE
END:VEVENT
END:VCALENDAR