BEGIN:VCALENDAR
VERSION:2.0
PRODID:-//jEvents 2.0 for Joomla//EN
CALSCALE:GREGORIAN
METHOD:PUBLISH
BEGIN:VEVENT
UID:adcd0224bb8b62ac6458a1a2a91047fe
CATEGORIES:PvE
CREATED:20180303T092336
SUMMARY:World Boss - free keys!
DESCRIPTION:Let's use the cabal world boss essences and summon some biggies in Agartha.
   You need to be level 50 to participate.  Cabal members guaranteed to get 
 in\n
X-ALT-DESC;FMTTYPE=text/html:<p>Let's use the cabal world boss essences and summon some biggies in Agart
 ha.  You need to be level 50 to participate.  Cabal members guaranteed to g
 et in</p>
DTSTAMP:20260422T044846
DTSTART;TZID=UTC:20180304T190000
DTEND;TZID=UTC:20180304T200000
SEQUENCE:0
TRANSP:OPAQUE
END:VEVENT
END:VCALENDAR