BEGIN:VCALENDAR
VERSION:2.0
PRODID:-//jEvents 2.0 for Joomla//EN
CALSCALE:GREGORIAN
METHOD:PUBLISH
BEGIN:VEVENT
UID:f9f77c06df4ffc18b3ce513a5af2e248
CATEGORIES:PvE
CREATED:20180303T121442
SUMMARY:Monster Hunting
DESCRIPTION:Monster Hunting: Hellspawn\nSign up thread: https://www.nine-swords.com/for
 ums/18/11201 (forums/18/11201)\n
X-ALT-DESC;FMTTYPE=text/html:<p><strong>Monster Hunting: Hellspawn</strong></p><p>Sign up thread: <a hre
 f="forums/18/11201">https://www.nine-swords.com/forums/18/11201</a></p>
DTSTAMP:20260422T044848
DTSTART;TZID=UTC:20180305T190000
DTEND;TZID=UTC:20180305T194500
SEQUENCE:0
TRANSP:OPAQUE
END:VEVENT
END:VCALENDAR