BEGIN:VCALENDAR
VERSION:2.0
PRODID:-//jEvents 2.0 for Joomla//EN
CALSCALE:GREGORIAN
METHOD:PUBLISH
BEGIN:VEVENT
UID:be628e76c0ae82daa22822ace1ed31e9
CATEGORIES:PvE
CREATED:20180303T121659
SUMMARY:Weekend E5 New York Raid, Sun. 4rd Mar. 18.00 GMT 
DESCRIPTION:<p>We can get Lurker this time!</p><p> </p><p>Sign ups:</p><p> </p><p><a hr
 ef="forums/18/11200">https://nine-swords.com/forums/18/11200</a></p>
DTSTAMP:20260422T044851
DTSTART;TZID=UTC:20180304T180000
DTEND;TZID=UTC:20180304T190000
SEQUENCE:0
TRANSP:OPAQUE
END:VEVENT
END:VCALENDAR