BEGIN:VCALENDAR
VERSION:2.0
PRODID:-//jEvents 2.0 for Joomla//EN
CALSCALE:GREGORIAN
METHOD:PUBLISH
BEGIN:VEVENT
UID:8b5e6918c9579e62f34558ac0d38c0f3
CATEGORIES:PvE
CREATED:19700101T000000
SUMMARY:Weekly NYR E5 Practice Run
DESCRIPTION:NYR E5 Practice Run. Expect to die many times, if we succeed it'll be a mir
 acle! Must have ip 450 to sign-up.\n \nSign-up here: Pending\n
X-ALT-DESC;FMTTYPE=text/html:<p>NYR E5 Practice Run. Expect to die many times, if we succeed it'll be a 
 miracle! Must have ip 450 to sign-up.</p><p> </p><p>Sign-up here: Pending</
 p>
DTSTAMP:20260422T014227
DTSTART;TZID=UTC:20180310T183000
DTEND;TZID=UTC:20180310T190000
SEQUENCE:0
RRULE:FREQ=WEEKLY;UNTIL=20181011T000000Z;INTERVAL=1;BYDAY=SA
EXDATE;TZID=UTC:20180630T183000
TRANSP:OPAQUE
END:VEVENT
BEGIN:VEVENT
UID:8b5e6918c9579e62f34558ac0d38c0f3
CATEGORIES:PvE
CREATED:20180305T214723
SUMMARY:Weekly NYR E5 Practice Run
DESCRIPTION:NYR E5 Practice Run. Expect to die many times, if we succeed it'll be a mir
 acle! Must have ip 450 to sign-up.\n \nSign-up here: https://www.nine-sword
 s.com/forums/18/11284 (forums/18/11284)\n \n
X-ALT-DESC;FMTTYPE=text/html:<p>NYR E5 Practice Run. Expect to die many times, if we succeed it'll be a 
 miracle! Must have ip 450 to sign-up.</p><p> </p><p>Sign-up here: <a href="
 forums/18/11284">https://www.nine-swords.com/forums/18/11284</a></p><p> </p
 >
 URL;VALUE=URI:https://nine-swords.com/events/eventdetail/2049/-/weekly-nyr-e5-practice-ru
 n?tmpl=component

DTSTAMP:20260422T014227
DTSTART;TZID=UTC:20180331T183000
DTEND;TZID=UTC:20180331T190000
RECURRENCE-ID;TZID=UTC:20180331T183000
SEQUENCE:0
TRANSP:OPAQUE
END:VEVENT
BEGIN:VEVENT
UID:8b5e6918c9579e62f34558ac0d38c0f3
CATEGORIES:PvE
CREATED:20180305T214723
SUMMARY:Weekly NYR E5 Practice Run
DESCRIPTION:NYR E5 Practice Run. Expect to die many times, if we succeed it'll be a mir
 acle! Must have ip 450 to sign-up.\n \nSign-up here: https://www.nine-sword
 s.com/forums/18/11313 (forums/18/11313)\n \n
X-ALT-DESC;FMTTYPE=text/html:<p>NYR E5 Practice Run. Expect to die many times, if we succeed it'll be a 
 miracle! Must have ip 450 to sign-up.</p><p> </p><p>Sign-up here: <a href="
 forums/18/11313">https://www.nine-swords.com/forums/18/11313</a></p><p> </p
 >
 URL;VALUE=URI:https://nine-swords.com/events/eventdetail/2050/-/weekly-nyr-e5-practice-ru
 n?tmpl=component

DTSTAMP:20260422T014227
DTSTART;TZID=UTC:20180407T183000
DTEND;TZID=UTC:20180407T190000
RECURRENCE-ID;TZID=UTC:20180407T183000
SEQUENCE:0
TRANSP:OPAQUE
END:VEVENT
BEGIN:VEVENT
UID:8b5e6918c9579e62f34558ac0d38c0f3
CATEGORIES:PvE
CREATED:20180305T214723
SUMMARY:Weekly NYR E5 Practice Run
DESCRIPTION:NYR E5 Practice Run. Expect to die many times, if we succeed it'll be a mir
 acle! Must have ip 450 to sign-up.\n \nSign-up here: https://www.nine-sword
 s.com/forums/18/11346 (forums/18/11346)\n \n
X-ALT-DESC;FMTTYPE=text/html:<p>NYR E5 Practice Run. Expect to die many times, if we succeed it'll be a 
 miracle! Must have ip 450 to sign-up.</p><p> </p><p>Sign-up here: <a href="
 forums/18/11346">https://www.nine-swords.com/forums/18/11346</a></p><p> </p
 >
 URL;VALUE=URI:https://nine-swords.com/events/eventdetail/2051/-/weekly-nyr-e5-practice-ru
 n?tmpl=component

DTSTAMP:20260422T014227
DTSTART;TZID=UTC:20180414T183000
DTEND;TZID=UTC:20180414T190000
RECURRENCE-ID;TZID=UTC:20180414T183000
SEQUENCE:0
TRANSP:OPAQUE
END:VEVENT
BEGIN:VEVENT
UID:8b5e6918c9579e62f34558ac0d38c0f3
CATEGORIES:PvE
CREATED:20180305T214723
SUMMARY:Weekly NYR E5 Practice Run
DESCRIPTION:NYR E5 Practice Run. Expect to die many times, if we succeed it'll be a mir
 acle! Must have ip 450 to sign-up.\n \nSign-up here: https://www.nine-sword
 s.com/forums/18/11357 (forums/18/11357)\n \n
X-ALT-DESC;FMTTYPE=text/html:<p>NYR E5 Practice Run. Expect to die many times, if we succeed it'll be a 
 miracle! Must have ip 450 to sign-up.</p><p> </p><p>Sign-up here: <a href="
 forums/18/11357">https://www.nine-swords.com/forums/18/11357</a></p><p> </p
 >
 URL;VALUE=URI:https://nine-swords.com/events/eventdetail/2052/-/weekly-nyr-e5-practice-ru
 n?tmpl=component

DTSTAMP:20260422T014227
DTSTART;TZID=UTC:20180421T183000
DTEND;TZID=UTC:20180421T190000
RECURRENCE-ID;TZID=UTC:20180421T183000
SEQUENCE:0
TRANSP:OPAQUE
END:VEVENT
BEGIN:VEVENT
UID:8b5e6918c9579e62f34558ac0d38c0f3
CATEGORIES:PvE
CREATED:20180305T214723
SUMMARY:Weekly NYR E5 Practice Run
DESCRIPTION:NYR E5 Practice Run. Expect to die many times, if we succeed it'll be a mir
 acle! Must have ip 450 to sign-up.\n \nSign-up here: https://www.nine-sword
 s.com/forums/18/11381 (forums/18/11381)\n \n
X-ALT-DESC;FMTTYPE=text/html:<p>NYR E5 Practice Run. Expect to die many times, if we succeed it'll be a 
 miracle! Must have ip 450 to sign-up.</p><p> </p><p>Sign-up here: <a href="
 forums/18/11381">https://www.nine-swords.com/forums/18/11381</a></p><p> </p
 >
 URL;VALUE=URI:https://nine-swords.com/events/eventdetail/2053/-/weekly-nyr-e5-practice-ru
 n?tmpl=component

DTSTAMP:20260422T014227
DTSTART;TZID=UTC:20180429T180000
DTEND;TZID=UTC:20180429T183000
RECURRENCE-ID;TZID=UTC:20180428T183000
SEQUENCE:0
TRANSP:OPAQUE
END:VEVENT
BEGIN:VEVENT
UID:8b5e6918c9579e62f34558ac0d38c0f3
CATEGORIES:PvE
CREATED:20180305T214723
SUMMARY:Weekly NYR E5 Practice Run
DESCRIPTION:NYR E5 Practice Run. Expect to die many times, if we succeed it'll be a mir
 acle! Must have ip 450 to sign-up.\n \nSign-up here: https://www.nine-sword
 s.com/forums/18/11414 (forums/18/11414)\n \n
X-ALT-DESC;FMTTYPE=text/html:<p>NYR E5 Practice Run. Expect to die many times, if we succeed it'll be a 
 miracle! Must have ip 450 to sign-up.</p><p> </p><p>Sign-up here: <a href="
 forums/18/11414">https://www.nine-swords.com/forums/18/11414</a></p><p> </p
 >
 URL;VALUE=URI:https://nine-swords.com/events/eventdetail/2054/-/weekly-nyr-e5-practice-ru
 n?tmpl=component

DTSTAMP:20260422T014227
DTSTART;TZID=UTC:20180505T183000
DTEND;TZID=UTC:20180505T190000
RECURRENCE-ID;TZID=UTC:20180505T183000
SEQUENCE:0
TRANSP:OPAQUE
END:VEVENT
BEGIN:VEVENT
UID:8b5e6918c9579e62f34558ac0d38c0f3
CATEGORIES:PvE
CREATED:20180305T214723
SUMMARY:Weekly NYR E5 Practice Run
DESCRIPTION:NYR E5 Practice Run. Expect to die many times, if we succeed it'll be a mir
 acle! Must have ip 450 to sign-up.\n \nSign-up here: https://www.nine-sword
 s.com/forums/18/11429 (forums/18/11429)\n \n
X-ALT-DESC;FMTTYPE=text/html:<p>NYR E5 Practice Run. Expect to die many times, if we succeed it'll be a 
 miracle! Must have ip 450 to sign-up.</p><p> </p><p>Sign-up here: <a href="
 forums/18/11429">https://www.nine-swords.com/forums/18/11429</a></p><p> </p
 >
 URL;VALUE=URI:https://nine-swords.com/events/eventdetail/2055/-/weekly-nyr-e5-practice-ru
 n?tmpl=component

DTSTAMP:20260422T014227
DTSTART;TZID=UTC:20180512T183000
DTEND;TZID=UTC:20180512T190000
RECURRENCE-ID;TZID=UTC:20180512T183000
SEQUENCE:0
TRANSP:OPAQUE
END:VEVENT
BEGIN:VEVENT
UID:8b5e6918c9579e62f34558ac0d38c0f3
CATEGORIES:PvE
CREATED:20180305T214723
SUMMARY:Weekly NYR E5 Practice Run
DESCRIPTION:NYR E5 Practice Run. Expect to die many times, if we succeed it'll be a mir
 acle! Must have ip 450 to sign-up.\n \nSign-up here: https://www.nine-sword
 s.com/forums/18/11443 (forums/18/11443)\n \n
X-ALT-DESC;FMTTYPE=text/html:<p>NYR E5 Practice Run. Expect to die many times, if we succeed it'll be a 
 miracle! Must have ip 450 to sign-up.</p><p> </p><p>Sign-up here: <a href="
 forums/18/11443">https://www.nine-swords.com/forums/18/11443</a></p><p> </p
 >
 URL;VALUE=URI:https://nine-swords.com/events/eventdetail/2056/-/weekly-nyr-e5-practice-ru
 n?tmpl=component

DTSTAMP:20260422T014227
DTSTART;TZID=UTC:20180519T183000
DTEND;TZID=UTC:20180519T190000
RECURRENCE-ID;TZID=UTC:20180519T183000
SEQUENCE:0
TRANSP:OPAQUE
END:VEVENT
BEGIN:VEVENT
UID:8b5e6918c9579e62f34558ac0d38c0f3
CATEGORIES:PvE
CREATED:20180305T214723
SUMMARY:Weekly NYR E5 Practice Run
DESCRIPTION:NYR E5 Practice Run. Expect to die many times, if we succeed it'll be a mir
 acle! Must have ip 450 to sign-up.\n \nSign-up here: https://www.nine-sword
 s.com/forums/18/11474 (forums/18/11474)\n \n
X-ALT-DESC;FMTTYPE=text/html:<p>NYR E5 Practice Run. Expect to die many times, if we succeed it'll be a 
 miracle! Must have ip 450 to sign-up.</p><p> </p><p>Sign-up here: <a href="
 forums/18/11474">https://www.nine-swords.com/forums/18/11474</a></p><p> </p
 >
 URL;VALUE=URI:https://nine-swords.com/events/eventdetail/2057/-/weekly-nyr-e5-practice-ru
 n?tmpl=component

DTSTAMP:20260422T014227
DTSTART;TZID=UTC:20180526T183000
DTEND;TZID=UTC:20180526T190000
RECURRENCE-ID;TZID=UTC:20180526T183000
SEQUENCE:0
TRANSP:OPAQUE
END:VEVENT
BEGIN:VEVENT
UID:8b5e6918c9579e62f34558ac0d38c0f3
CATEGORIES:PvE
CREATED:20180305T214723
SUMMARY:Weekly NYR E5 Practice Run
DESCRIPTION:NYR E5 Practice Run. Expect to die many times, if we succeed it'll be a mir
 acle! Must have ip 450 to sign-up.\n \nSign-up here: https://www.nine-sword
 s.com/forums/18/11493 (forums/18/11493)\n \n
X-ALT-DESC;FMTTYPE=text/html:<p>NYR E5 Practice Run. Expect to die many times, if we succeed it'll be a 
 miracle! Must have ip 450 to sign-up.</p><p> </p><p>Sign-up here: <a href="
 forums/18/11493">https://www.nine-swords.com/forums/18/11493</a></p><p> </p
 >
 URL;VALUE=URI:https://nine-swords.com/events/eventdetail/2058/-/weekly-nyr-e5-practice-ru
 n?tmpl=component

DTSTAMP:20260422T014227
DTSTART;TZID=UTC:20180602T183000
DTEND;TZID=UTC:20180602T190000
RECURRENCE-ID;TZID=UTC:20180602T183000
SEQUENCE:0
TRANSP:OPAQUE
END:VEVENT
BEGIN:VEVENT
UID:8b5e6918c9579e62f34558ac0d38c0f3
CATEGORIES:PvE
CREATED:20180305T214723
SUMMARY:Weekly NYR E5 Practice Run
DESCRIPTION:NYR E5 Practice Run. Expect to die many times, if we succeed it'll be a mir
 acle! Must have ip 450 to sign-up.\n \nSign-up here: https://www.nine-sword
 s.com/forums/18/11511 (forums/18/11511)\n \n
X-ALT-DESC;FMTTYPE=text/html:<p>NYR E5 Practice Run. Expect to die many times, if we succeed it'll be a 
 miracle! Must have ip 450 to sign-up.</p><p> </p><p>Sign-up here: <a href="
 forums/18/11511">https://www.nine-swords.com/forums/18/11511</a></p><p> </p
 >
 URL;VALUE=URI:https://nine-swords.com/events/eventdetail/2059/-/weekly-nyr-e5-practice-ru
 n?tmpl=component

DTSTAMP:20260422T014227
DTSTART;TZID=UTC:20180609T183000
DTEND;TZID=UTC:20180609T190000
RECURRENCE-ID;TZID=UTC:20180609T183000
SEQUENCE:0
TRANSP:OPAQUE
END:VEVENT
BEGIN:VEVENT
UID:8b5e6918c9579e62f34558ac0d38c0f3
CATEGORIES:PvE
CREATED:20180305T214723
SUMMARY:Weekly NYR E5 Practice Run
DESCRIPTION:NYR E5 Practice Run. Expect to die many times, if we succeed it'll be a mir
 acle! Must have ip 450 to sign-up.\n \nSign-up here: https://www.nine-sword
 s.com/forums/18/11525 (forums/18/11525)\n \n
X-ALT-DESC;FMTTYPE=text/html:<p>NYR E5 Practice Run. Expect to die many times, if we succeed it'll be a 
 miracle! Must have ip 450 to sign-up.</p><p> </p><p>Sign-up here: <a href="
 forums/18/11525">https://www.nine-swords.com/forums/18/11525</a></p><p> </p
 >
 URL;VALUE=URI:https://nine-swords.com/events/eventdetail/2060/-/weekly-nyr-e5-practice-ru
 n?tmpl=component

DTSTAMP:20260422T014227
DTSTART;TZID=UTC:20180616T183000
DTEND;TZID=UTC:20180616T190000
RECURRENCE-ID;TZID=UTC:20180616T183000
SEQUENCE:0
TRANSP:OPAQUE
END:VEVENT
BEGIN:VEVENT
UID:8b5e6918c9579e62f34558ac0d38c0f3
CATEGORIES:PvE
CREATED:20180305T214723
SUMMARY:Weekly NYR E5 Practice Run
DESCRIPTION:NYR E5 Practice Run. Expect to die many times, if we succeed it'll be a mir
 acle! Must have ip 450 to sign-up.\n \nSign-up here: https://www.nine-sword
 s.com/forums/18/11536 (forums/18/11536)\n \n
X-ALT-DESC;FMTTYPE=text/html:<p>NYR E5 Practice Run. Expect to die many times, if we succeed it'll be a 
 miracle! Must have ip 450 to sign-up.</p><p> </p><p>Sign-up here: <a href="
 forums/18/11536">https://www.nine-swords.com/forums/18/11536</a></p><p> </p
 >
 URL;VALUE=URI:https://nine-swords.com/events/eventdetail/2061/-/weekly-nyr-e5-practice-ru
 n?tmpl=component

DTSTAMP:20260422T014227
DTSTART;TZID=UTC:20180623T183000
DTEND;TZID=UTC:20180623T190000
RECURRENCE-ID;TZID=UTC:20180623T183000
SEQUENCE:0
TRANSP:OPAQUE
END:VEVENT
BEGIN:VEVENT
UID:8b5e6918c9579e62f34558ac0d38c0f3
CATEGORIES:PvE
CREATED:20180305T214723
SUMMARY:Weekly NYR E5 Practice Run
DESCRIPTION:NYR E5 Practice Run. Expect to die many times, if we succeed it'll be a mir
 acle! Must have ip 450 to sign-up.\n \nSign-up here: https://www.nine-sword
 s.com/forums/18/11581 (forums/18/11581)\n \n
X-ALT-DESC;FMTTYPE=text/html:<p>NYR E5 Practice Run. Expect to die many times, if we succeed it'll be a 
 miracle! Must have ip 450 to sign-up.</p><p> </p><p>Sign-up here: <a href="
 forums/18/11581">https://www.nine-swords.com/forums/18/11581</a></p><p> </p
 >
 URL;VALUE=URI:https://nine-swords.com/events/eventdetail/2063/-/weekly-nyr-e5-practice-ru
 n?tmpl=component

DTSTAMP:20260422T014227
DTSTART;TZID=UTC:20180707T183000
DTEND;TZID=UTC:20180707T190000
RECURRENCE-ID;TZID=UTC:20180707T183000
SEQUENCE:0
TRANSP:OPAQUE
END:VEVENT
BEGIN:VEVENT
UID:8b5e6918c9579e62f34558ac0d38c0f3
CATEGORIES:PvE
CREATED:20180305T214723
SUMMARY:Weekly NYR E5 Practice Run
DESCRIPTION:NYR E5 Practice Run. Expect to die many times, if we succeed it'll be a mir
 acle! Must have ip 450 to sign-up.\n \nSign-up here: https://www.nine-sword
 s.com/forums/18/11595 (forums/18/11595)\n \n
X-ALT-DESC;FMTTYPE=text/html:<p>NYR E5 Practice Run. Expect to die many times, if we succeed it'll be a 
 miracle! Must have ip 450 to sign-up.</p><p> </p><p>Sign-up here: <a href="
 forums/18/11595">https://www.nine-swords.com/forums/18/11595</a></p><p> </p
 >
 URL;VALUE=URI:https://nine-swords.com/events/eventdetail/2064/-/weekly-nyr-e5-practice-ru
 n?tmpl=component

DTSTAMP:20260422T014227
DTSTART;TZID=UTC:20180714T183000
DTEND;TZID=UTC:20180714T190000
RECURRENCE-ID;TZID=UTC:20180714T183000
SEQUENCE:0
TRANSP:OPAQUE
END:VEVENT
BEGIN:VEVENT
UID:8b5e6918c9579e62f34558ac0d38c0f3
CATEGORIES:PvE
CREATED:20180305T214723
SUMMARY:Weekly NYR E5 (Saturdays)
DESCRIPTION:Weekly NYR E5, ip 450 to sign-up.\n \nSign-up here: https://www.nine-swords
 .com/forums/18/11605 (forums/18/11605)\n \n \n
X-ALT-DESC;FMTTYPE=text/html:<p>Weekly NYR E5, ip 450 to sign-up.</p><p> </p><p>Sign-up here: <a href="f
 orums/18/11605">https://www.nine-swords.com/forums/18/11605</a></p><p> </p>
 <p> </p>
 URL;VALUE=URI:https://nine-swords.com/events/eventdetail/2065/-/weekly-nyr-e5-saturdays?t
 mpl=component

DTSTAMP:20260422T014227
DTSTART;TZID=UTC:20180721T183000
DTEND;TZID=UTC:20180721T190000
RECURRENCE-ID;TZID=UTC:20180721T183000
SEQUENCE:0
TRANSP:OPAQUE
END:VEVENT
BEGIN:VEVENT
UID:8b5e6918c9579e62f34558ac0d38c0f3
CATEGORIES:PvE
CREATED:20180305T214723
SUMMARY:Weekly NYR E5 (Saturdays)
DESCRIPTION: \nSign-up here: https://www.nine-swords.com/forums/18/11616 (forums/18/116
 16)\n \n
X-ALT-DESC;FMTTYPE=text/html:<p> </p><p>Sign-up here: <a href="forums/18/11616">https://www.nine-swords.
 com/forums/18/11616</a></p><p> </p>
 URL;VALUE=URI:https://nine-swords.com/events/eventdetail/2066/-/weekly-nyr-e5-saturdays?t
 mpl=component

DTSTAMP:20260422T014227
DTSTART;TZID=UTC:20180728T183000
DTEND;TZID=UTC:20180728T190000
RECURRENCE-ID;TZID=UTC:20180728T183000
SEQUENCE:0
TRANSP:OPAQUE
END:VEVENT
BEGIN:VEVENT
UID:8b5e6918c9579e62f34558ac0d38c0f3
CATEGORIES:PvE
CREATED:20180305T214723
SUMMARY:Weekly NYR E5 Practice Run
DESCRIPTION:Sign-up here: https://www.nine-swords.com/forums/18/11634 (forums/18/11634)
 \n \n
X-ALT-DESC;FMTTYPE=text/html:<p>Sign-up here: <a href="forums/18/11634">https://www.nine-swords.com/foru
 ms/18/11634</a></p><p> </p>
 URL;VALUE=URI:https://nine-swords.com/events/eventdetail/2067/-/weekly-nyr-e5-practice-ru
 n?tmpl=component

DTSTAMP:20260422T014227
DTSTART;TZID=UTC:20180804T183000
DTEND;TZID=UTC:20180804T190000
RECURRENCE-ID;TZID=UTC:20180804T183000
SEQUENCE:0
TRANSP:OPAQUE
END:VEVENT
BEGIN:VEVENT
UID:8b5e6918c9579e62f34558ac0d38c0f3
CATEGORIES:PvE
CREATED:20180305T214723
SUMMARY:Weekly NYR E5 (Saturdays)
DESCRIPTION:Sign-up here: https://www.nine-swords.com/forums/18/11650 (forums/18/11650)
 \n \n
X-ALT-DESC;FMTTYPE=text/html:<p>Sign-up here: <a href="forums/18/11650">https://www.nine-swords.com/foru
 ms/18/11650</a></p><p> </p>
 URL;VALUE=URI:https://nine-swords.com/events/eventdetail/2068/-/weekly-nyr-e5-saturdays?t
 mpl=component

DTSTAMP:20260422T014227
DTSTART;TZID=UTC:20180811T183000
DTEND;TZID=UTC:20180811T190000
RECURRENCE-ID;TZID=UTC:20180811T183000
SEQUENCE:0
TRANSP:OPAQUE
END:VEVENT
BEGIN:VEVENT
UID:8b5e6918c9579e62f34558ac0d38c0f3
CATEGORIES:PvE
CREATED:20180305T214723
SUMMARY:Weekly NYR E5 Practice Run
DESCRIPTION: \nSign-up here: https://www.nine-swords.com/forums/18/11669 (forums/18/116
 69)\n \n
X-ALT-DESC;FMTTYPE=text/html:<p> </p><p>Sign-up here: <a href="forums/18/11669">https://www.nine-swords.
 com/forums/18/11669</a></p><p> </p>
 URL;VALUE=URI:https://nine-swords.com/events/eventdetail/2069/-/weekly-nyr-e5-practice-ru
 n?tmpl=component

DTSTAMP:20260422T014227
DTSTART;TZID=UTC:20180818T183000
DTEND;TZID=UTC:20180818T190000
RECURRENCE-ID;TZID=UTC:20180818T183000
SEQUENCE:0
TRANSP:OPAQUE
END:VEVENT
BEGIN:VEVENT
UID:8b5e6918c9579e62f34558ac0d38c0f3
CATEGORIES:PvE
CREATED:20180305T214723
SUMMARY:Weekly NYR E5 Practice Run
DESCRIPTION:Must have ip 450 to sign-up.\n \nSign-up here: https://www.nine-swords.com/
 forums/18/11677 (forums/18/11677)\n \n
X-ALT-DESC;FMTTYPE=text/html:<p>Must have ip 450 to sign-up.</p><p> </p><p>Sign-up here: <a href="forums
 /18/11677">https://www.nine-swords.com/forums/18/11677</a></p><p> </p>
 URL;VALUE=URI:https://nine-swords.com/events/eventdetail/2070/-/weekly-nyr-e5-practice-ru
 n?tmpl=component

DTSTAMP:20260422T014227
DTSTART;TZID=UTC:20180825T183000
DTEND;TZID=UTC:20180825T190000
RECURRENCE-ID;TZID=UTC:20180825T183000
SEQUENCE:0
TRANSP:OPAQUE
END:VEVENT
BEGIN:VEVENT
UID:8b5e6918c9579e62f34558ac0d38c0f3
CATEGORIES:PvE
CREATED:20180305T214723
SUMMARY:Weekly NYR E5 Practice Run
DESCRIPTION:Sign-up here: https://www.nine-swords.com/forums/18/11686?p=76769#p76769 (f
 orums/18/11686?p=76769#p76769)\n \n
X-ALT-DESC;FMTTYPE=text/html:<p>Sign-up here: <a href="forums/18/11686?p=76769#p76769">https://www.nine-
 swords.com/forums/18/11686?p=76769#p76769</a></p><p> </p>
 URL;VALUE=URI:https://nine-swords.com/events/eventdetail/2071/-/weekly-nyr-e5-practice-ru
 n?tmpl=component

DTSTAMP:20260422T014227
DTSTART;TZID=UTC:20180901T183000
DTEND;TZID=UTC:20180901T190000
RECURRENCE-ID;TZID=UTC:20180901T183000
SEQUENCE:0
TRANSP:OPAQUE
END:VEVENT
BEGIN:VEVENT
UID:8b5e6918c9579e62f34558ac0d38c0f3
CATEGORIES:PvE
CREATED:20180305T214723
SUMMARY:Weekly NYR E5 (Saturday)
DESCRIPTION: \nSign-up here: https://www.nine-swords.com/forums/18/11692 (forums/18/116
 92)\n \n
X-ALT-DESC;FMTTYPE=text/html:<p> </p><p>Sign-up here: <a href="forums/18/11692">https://www.nine-swords.
 com/forums/18/11692</a></p><p> </p>
 URL;VALUE=URI:https://nine-swords.com/events/eventdetail/2072/-/weekly-nyr-e5-saturday?tm
 pl=component

DTSTAMP:20260422T014227
DTSTART;TZID=UTC:20180908T183000
DTEND;TZID=UTC:20180908T190000
RECURRENCE-ID;TZID=UTC:20180908T183000
SEQUENCE:0
TRANSP:OPAQUE
END:VEVENT
BEGIN:VEVENT
UID:8b5e6918c9579e62f34558ac0d38c0f3
CATEGORIES:PvE
CREATED:20180305T214723
SUMMARY:Weekly NYR E5 Practice Run
DESCRIPTION:Sgn-up here: https://www.nine-swords.com/forums/18/11704 (forums/18/11704)\
 n \n
X-ALT-DESC;FMTTYPE=text/html:<p>Sgn-up here: <a href="forums/18/11704">https://www.nine-swords.com/forum
 s/18/11704</a></p><p> </p>
 URL;VALUE=URI:https://nine-swords.com/events/eventdetail/2073/-/weekly-nyr-e5-practice-ru
 n?tmpl=component

DTSTAMP:20260422T014227
DTSTART;TZID=UTC:20180915T183000
DTEND;TZID=UTC:20180915T190000
RECURRENCE-ID;TZID=UTC:20180915T183000
SEQUENCE:0
TRANSP:OPAQUE
END:VEVENT
BEGIN:VEVENT
UID:8b5e6918c9579e62f34558ac0d38c0f3
CATEGORIES:PvE
CREATED:20180305T214723
SUMMARY:Weekly NYR E5 (Saturday)
DESCRIPTION:Sign-up here: https://www.nine-swords.com/forums/18/11713 (forums/18/11713)
 \n \n
X-ALT-DESC;FMTTYPE=text/html:<p>Sign-up here: <a href="forums/18/11713">https://www.nine-swords.com/foru
 ms/18/11713</a></p><p> </p>
 URL;VALUE=URI:https://nine-swords.com/events/eventdetail/2074/-/weekly-nyr-e5-saturday?tm
 pl=component

DTSTAMP:20260422T014227
DTSTART;TZID=UTC:20180922T183000
DTEND;TZID=UTC:20180922T190000
RECURRENCE-ID;TZID=UTC:20180922T183000
SEQUENCE:0
TRANSP:OPAQUE
END:VEVENT
BEGIN:VEVENT
UID:8b5e6918c9579e62f34558ac0d38c0f3
CATEGORIES:PvE
CREATED:20180305T214723
SUMMARY:Weekly NYR E5 (Saturday)
DESCRIPTION:Sign-up here: https://www.nine-swords.com/forums/18/11727 (forums/18/11727)
 \n \n
X-ALT-DESC;FMTTYPE=text/html:<p>Sign-up here: <a href="forums/18/11727">https://www.nine-swords.com/foru
 ms/18/11727</a></p><p> </p>
 URL;VALUE=URI:https://nine-swords.com/events/eventdetail/2075/-/weekly-nyr-e5-saturday?tm
 pl=component

DTSTAMP:20260422T014227
DTSTART;TZID=UTC:20180929T183000
DTEND;TZID=UTC:20180929T190000
RECURRENCE-ID;TZID=UTC:20180929T183000
SEQUENCE:0
TRANSP:OPAQUE
END:VEVENT
BEGIN:VEVENT
UID:8b5e6918c9579e62f34558ac0d38c0f3
CATEGORIES:PvE
CREATED:20180305T214723
SUMMARY:Weekly NYR E5 (Saturday-makeup)
DESCRIPTION:Sign-up here: https://www.nine-swords.com/forums/18/11741 (forums/18/11741)
 \n \n
X-ALT-DESC;FMTTYPE=text/html:<p>Sign-up here: <a href="forums/18/11741">https://www.nine-swords.com/foru
 ms/18/11741</a></p><p> </p>
 URL;VALUE=URI:https://nine-swords.com/events/eventdetail/2076/-/weekly-nyr-e5-saturday-ma
 keup?tmpl=component

DTSTAMP:20260422T014227
DTSTART;TZID=UTC:20181007T180000
DTEND;TZID=UTC:20181007T183000
RECURRENCE-ID;TZID=UTC:20181006T183000
SEQUENCE:0
TRANSP:OPAQUE
END:VEVENT
END:VCALENDAR