BEGIN:VCALENDAR
VERSION:2.0
PRODID:-//jEvents 2.0 for Joomla//EN
CALSCALE:GREGORIAN
METHOD:PUBLISH
BEGIN:VEVENT
UID:0a80d76b03207e4e24a5d4cf50554e63
CATEGORIES:PvE
CREATED:20180315T043028
SUMMARY:CoEd Naked E1--For Ez
LOCATION:Agartha
DESCRIPTION:<p>Ezraell couldn't make the Monday version, so we're doing a Tuesday versi
 on for him.  Here's a quick reminder of what we're planning:</p><p><span st
 yle="display: inline !important; float: none; background-color: transparent
 ; color: #333333; font-family: 'Lucida Grande','Trebuchet MS',Verdana,Helve
 tica,Arial,sans-serif; font-size: 14.33px; font-style: normal; font-variant
 : normal; font-weight: 400; letter-spacing: normal; line-height: 20.06px; o
 rphans: 2; text-align: left; text-decoration: none; text-indent: 0px; text-
 transform: none; -webkit-text-stroke-width: 0px; white-space: normal; word-
 spacing: 0px;">Everyone remove gear until you can get to around IP 150. For
  some of us, that may be weapons only. . . </span><br style="background-col
 or: transparent; clear: none; color: #333333; font-family: &amp;quot; lucid
 a grande&amp;quot;,&amp;quot;trebuchet ms&amp;quot;,verdana,helvetica,arial
 ,sans-serif; font-size: 14.33px; font-style: normal; font-variant: normal; 
 font-weight: 400; letter-spacing: normal; line-height: 20.06px; min-height:
  0px; orphans: 2; overflow: visible; overflow-x: visible; padding-bottom: 0
 px; text-align: left; text-decoration: none; text-indent: 0px; text-transfo
 rm: none; -webkit-text-stroke-width: 0px; white-space: normal; word-spacing
 : 0px;" /> <br style="background-color: transparent; clear: none; color: #3
 33333; font-family: &amp;quot; lucida grande&amp;quot;,&amp;quot;trebuchet 
 ms&amp;quot;,verdana,helvetica,arial,sans-serif; font-size: 14.33px; font-s
 tyle: normal; font-variant: normal; font-weight: 400; letter-spacing: norma
 l; line-height: 20.06px; min-height: 0px; orphans: 2; overflow: visible; ov
 erflow-x: visible; padding-bottom: 0px; text-align: left; text-decoration: 
 none; text-indent: 0px; text-transform: none; -webkit-text-stroke-width: 0p
 x; white-space: normal; word-spacing: 0px;" /><span style="display: inline 
 !important; float: none; background-color: transparent; color: #333333; fon
 t-family: 'Lucida Grande','Trebuchet MS',Verdana,Helvetica,Arial,sans-serif
 ; font-size: 14.33px; font-style: normal; font-variant: normal; font-weight
 : 400; letter-spacing: normal; line-height: 20.06px; orphans: 2; text-align
 : left; text-decoration: none; text-indent: 0px; text-transform: none; -web
 kit-text-stroke-width: 0px; white-space: normal; word-spacing: 0px;"> Every
 one enter the queue in DPS spec and click all roles. . . then let the queue
  decide who will tank, who will heal, and who will dps. Note, if you don't 
 already have weapons for these roles, you may need to buy something cheap o
 n the AH instead of your favorite weapons.</span><br style="background-colo
 r: transparent; clear: none; color: #333333; font-family: &amp;quot; lucida
  grande&amp;quot;,&amp;quot;trebuchet ms&amp;quot;,verdana,helvetica,arial,
 sans-serif; font-size: 14.33px; font-style: normal; font-variant: normal; f
 ont-weight: 400; letter-spacing: normal; line-height: 20.06px; min-height: 
 0px; orphans: 2; overflow: visible; overflow-x: visible; padding-bottom: 0p
 x; text-align: left; text-decoration: none; text-indent: 0px; text-transfor
 m: none; -webkit-text-stroke-width: 0px; white-space: normal; word-spacing:
  0px;" /> <br style="background-color: transparent; clear: none; color: #33
 3333; font-family: &amp;quot; lucida grande&amp;quot;,&amp;quot;trebuchet m
 s&amp;quot;,verdana,helvetica,arial,sans-serif; font-size: 14.33px; font-st
 yle: normal; font-variant: normal; font-weight: 400; letter-spacing: normal
 ; line-height: 20.06px; min-height: 0px; orphans: 2; overflow: visible; ove
 rflow-x: visible; padding-bottom: 0px; text-align: left; text-decoration: n
 one; text-indent: 0px; text-transform: none; -webkit-text-stroke-width: 0px
 ; white-space: normal; word-spacing: 0px;" /><span style="display: inline !
 important; float: none; background-color: transparent; color: #333333; font
 -family: 'Lucida Grande','Trebuchet MS',Verdana,Helvetica,Arial,sans-serif;
  font-size: 14.33px; font-style: normal; font-variant: normal; font-weight:
  400; letter-spacing: normal; line-height: 20.06px; orphans: 2; text-align:
  left; text-decoration: none; text-indent: 0px; text-transform: none; -webk
 it-text-stroke-width: 0px; white-space: normal; word-spacing: 0px;"> Play E
 1 in a random role with low IP--just for the fun of it.</span><br style="ba
 ckground-color: transparent; clear: none; color: #333333; font-family: &amp
 ;quot; lucida grande&amp;quot;,&amp;quot;trebuchet ms&amp;quot;,verdana,hel
 vetica,arial,sans-serif; font-size: 14.33px; font-style: normal; font-varia
 nt: normal; font-weight: 400; letter-spacing: normal; line-height: 20.06px;
  min-height: 0px; orphans: 2; overflow: visible; overflow-x: visible; paddi
 ng-bottom: 0px; text-align: left; text-decoration: none; text-indent: 0px; 
 text-transform: none; -webkit-text-stroke-width: 0px; white-space: normal; 
 word-spacing: 0px;" /> <br style="background-color: transparent; clear: non
 e; color: #333333; font-family: &amp;quot; lucida grande&amp;quot;,&amp;quo
 t;trebuchet ms&amp;quot;,verdana,helvetica,arial,sans-serif; font-size: 14.
 33px; font-style: normal; font-variant: normal; font-weight: 400; letter-sp
 acing: normal; line-height: 20.06px; min-height: 0px; orphans: 2; overflow:
  visible; overflow-x: visible; padding-bottom: 0px; text-align: left; text-
 decoration: none; text-indent: 0px; text-transform: none; -webkit-text-stro
 ke-width: 0px; white-space: normal; word-spacing: 0px;" /><span style="disp
 lay: inline !important; float: none; background-color: transparent; color: 
 #333333; font-family: 'Lucida Grande','Trebuchet MS',Verdana,Helvetica,Aria
 l,sans-serif; font-size: 14.33px; font-style: normal; font-variant: normal;
  font-weight: 400; letter-spacing: normal; line-height: 20.06px; orphans: 2
 ; text-align: left; text-decoration: none; text-indent: 0px; text-transform
 : none; -webkit-text-stroke-width: 0px; white-space: normal; word-spacing: 
 0px;"> Optional: Make it truly co-ed naked dungeoneering. Speedos and bikin
 is for everyone!</span><br style="background-color: transparent; clear: non
 e; color: #333333; font-family: &amp;quot; lucida grande&amp;quot;,&amp;quo
 t;trebuchet ms&amp;quot;,verdana,helvetica,arial,sans-serif; font-size: 14.
 33px; font-style: normal; font-variant: normal; font-weight: 400; letter-sp
 acing: normal; line-height: 20.06px; min-height: 0px; orphans: 2; overflow:
  visible; overflow-x: visible; padding-bottom: 0px; text-align: left; text-
 decoration: none; text-indent: 0px; text-transform: none; -webkit-text-stro
 ke-width: 0px; white-space: normal; word-spacing: 0px;" /> <br style="backg
 round-color: transparent; clear: none; color: #333333; font-family: &amp;qu
 ot; lucida grande&amp;quot;,&amp;quot;trebuchet ms&amp;quot;,verdana,helvet
 ica,arial,sans-serif; font-size: 14.33px; font-style: normal; font-variant:
  normal; font-weight: 400; letter-spacing: normal; line-height: 20.06px; mi
 n-height: 0px; orphans: 2; overflow: visible; overflow-x: visible; padding-
 bottom: 0px; text-align: left; text-decoration: none; text-indent: 0px; tex
 t-transform: none; -webkit-text-stroke-width: 0px; white-space: normal; wor
 d-spacing: 0px;" /><span style="display: inline !important; float: none; ba
 ckground-color: transparent; color: #333333; font-family: 'Lucida Grande','
 Trebuchet MS',Verdana,Helvetica,Arial,sans-serif; font-size: 14.33px; font-
 style: normal; font-variant: normal; font-weight: 400; letter-spacing: norm
 al; line-height: 20.06px; orphans: 2; text-align: left; text-decoration: no
 ne; text-indent: 0px; text-transform: none; -webkit-text-stroke-width: 0px;
  white-space: normal; word-spacing: 0px;"> Loot? Who cares! We're doing it 
 for the lulz. Who's with me!?!</span></p><p> </p><p><span style="display: i
 nline !important; float: none; background-color: transparent; color: #33333
 3; font-family: 'Lucida Grande','Trebuchet MS',Verdana,Helvetica,Arial,sans
 -serif; font-size: 14.33px; font-style: normal; font-variant: normal; font-
 weight: 400; letter-spacing: normal; line-height: 20.06px; orphans: 2; text
 -align: left; text-decoration: none; text-indent: 0px; text-transform: none
 ; -webkit-text-stroke-width: 0px; white-space: normal; word-spacing: 0px;">
 Link to the forum Signup:</span></p><p><span style="display: inline !import
 ant; float: none; background-color: transparent; color: #333333; font-famil
 y: 'Lucida Grande','Trebuchet MS',Verdana,Helvetica,Arial,sans-serif; font-
 size: 14.33px; font-style: normal; font-variant: normal; font-weight: 400; 
 letter-spacing: normal; line-height: 20.06px; orphans: 2; text-align: left;
  text-decoration: none; text-indent: 0px; text-transform: none; -webkit-tex
 t-stroke-width: 0px; white-space: normal; word-spacing: 0px;"><a href="foru
 ms/18/11254">https://www.nine-swords.com/forums/18/11254</a></span></p>
CONTACT:Ghostchilde
DTSTAMP:20260422T044914
DTSTART;TZID=UTC:20180320T235900
SEQUENCE:0
TRANSP:OPAQUE
END:VEVENT
END:VCALENDAR