BEGIN:VCALENDAR
VERSION:2.0
PRODID:-//jEvents 2.0 for Joomla//EN
CALSCALE:GREGORIAN
METHOD:PUBLISH
BEGIN:VEVENT
UID:e6f008763148acd03fa3d3e066628ed5
CATEGORIES:PvE
CREATED:20180317T114446
SUMMARY:World Boss
DESCRIPTION:<p>Let's summon 6 world bosses!  Sign up in the forums - room for 15.  NOTE
 : 19:30 UTC start time</p>
DTSTAMP:20260422T050959
DTSTART;TZID=UTC:20180318T193000
DTEND;TZID=UTC:20180318T203000
SEQUENCE:0
TRANSP:OPAQUE
END:VEVENT
END:VCALENDAR