BEGIN:VCALENDAR
VERSION:2.0
PRODID:-//jEvents 2.0 for Joomla//EN
CALSCALE:GREGORIAN
METHOD:PUBLISH
BEGIN:VEVENT
UID:f3e40466d9702aa5839f27226ba81335
CATEGORIES:PvE
CREATED:19700101T000000
SUMMARY:Weekly SM and E1 NYR
DESCRIPTION:<p>Sign up in the forums!</p><p> </p><p>Please state if you haven't done it
  before (try to read our guide and pick up the mission from the Activities:
  Paragon vendor machine in Agartha before we start).</p>
DTSTAMP:20260422T000208
DTSTART;TZID=UTC:20180328T191500
DTEND;TZID=UTC:20180328T200000
SEQUENCE:0
RRULE:FREQ=WEEKLY;UNTIL=20180531T000000Z;INTERVAL=1;BYDAY=WE
TRANSP:OPAQUE
END:VEVENT
END:VCALENDAR