BEGIN:VCALENDAR
VERSION:2.0
PRODID:-//jEvents 2.0 for Joomla//EN
CALSCALE:GREGORIAN
METHOD:PUBLISH
BEGIN:VEVENT
UID:9da5d3a460b9287136834240083072ea
CATEGORIES:PvE
CREATED:20180402T143522
SUMMARY:missions + monster kills - 2018.04.03 17.00 GMT
DESCRIPTION:Let's make quick run for missions and kill some monsters in the same time:\
 nWe'll start from COTSG:\nShades - Halls of Lost Records\n \nThen we'll go 
 to CF:\nRevenant - Pictures\nZmeu - Contagion\n \nLet's hope somebody will 
 grab an agent !\n \nhttps://www.nine-swords.com/forums/18/11305 (forums/18/
 11305)\n \n
X-ALT-DESC;FMTTYPE=text/html:<p>Let's make quick run for missions and kill some monsters in the same tim
 e:</p><p lang="pl" style="margin: 0in; font-family: Calibri; font-size: 11.
 0pt;">We'll start from COTSG:</p><p lang="pl" style="margin: 0in; font-fami
 ly: Calibri; font-size: 11.0pt;">Shades - Halls of Lost Records</p><p lang=
 "pl" style="margin: 0in; font-family: Calibri; font-size: 11.0pt;"> </p><p 
 lang="pl" style="margin: 0in; font-family: Calibri; font-size: 11.0pt;">The
 n we'll go to CF:</p><p lang="pl" style="margin: 0in; font-family: Calibri;
  font-size: 11.0pt;">Revenant - Pictures</p><p lang="pl" style="margin: 0in
 ; font-family: Calibri; font-size: 11.0pt;">Zmeu - Contagion</p><p lang="pl
 " style="margin: 0in; font-family: Calibri; font-size: 11.0pt;"> </p><p lan
 g="pl" style="margin: 0in; font-family: Calibri; font-size: 11.0pt;">Let's 
 hope somebody will grab an agent !</p><p lang="pl" style="margin: 0in; font
 -family: Calibri; font-size: 11.0pt;"> </p><p lang="pl" style="margin: 0in;
  font-family: Calibri; font-size: 11.0pt;"><a href="forums/18/11305">https:
 //www.nine-swords.com/forums/18/11305</a></p><p> </p>
DTSTAMP:20260422T000004
DTSTART;TZID=UTC:20180403T170000
DTEND;TZID=UTC:20180403T180000
SEQUENCE:0
TRANSP:OPAQUE
END:VEVENT
END:VCALENDAR