BEGIN:VCALENDAR
VERSION:2.0
PRODID:-//jEvents 2.0 for Joomla//EN
CALSCALE:GREGORIAN
METHOD:PUBLISH
BEGIN:VEVENT
UID:30770b0f0fbb705ae52545ba9f18ba5d
CATEGORIES:PvE
CREATED:20180408T110613
SUMMARY:Monster Hunting
DESCRIPTION:Monster Hunting\nSign up thread: https://www.nine-swords.com/forums/18/1133
 4 (forums/18/11334)\n
X-ALT-DESC;FMTTYPE=text/html:<p><strong>Monster Hunting</strong></p><p>Sign up thread: <a href="forums/1
 8/11334">https://www.nine-swords.com/forums/18/11334</a></p>
DTSTAMP:20260422T000017
DTSTART;TZID=UTC:20180409T180000
DTEND;TZID=UTC:20180409T184500
SEQUENCE:0
TRANSP:OPAQUE
END:VEVENT
END:VCALENDAR