BEGIN:VCALENDAR
VERSION:2.0
PRODID:-//jEvents 2.0 for Joomla//EN
CALSCALE:GREGORIAN
METHOD:PUBLISH
BEGIN:VEVENT
UID:ea898f380f12ed5bdfc79faa312effae
CATEGORIES:PvE
CREATED:20180415T173716
SUMMARY:Monster Hunting
DESCRIPTION:Monster Hunting - Zmeu\nSign up thread: https://www.nine-swords.com/forums/
 18/11352 (forums/18/11352)\n
X-ALT-DESC;FMTTYPE=text/html:<p><strong>Monster Hunting - Zmeu</strong></p><p>Sign up thread: <a href="f
 orums/18/11352">https://www.nine-swords.com/forums/18/11352</a></p>
DTSTAMP:20260422T001450
DTSTART;TZID=UTC:20180416T180000
DTEND;TZID=UTC:20180416T184500
SEQUENCE:0
TRANSP:OPAQUE
END:VEVENT
END:VCALENDAR