BEGIN:VCALENDAR
VERSION:2.0
PRODID:-//jEvents 2.0 for Joomla//EN
CALSCALE:GREGORIAN
METHOD:PUBLISH
BEGIN:VEVENT
UID:6d16f24b6e65998f4ec8032442509b38
CATEGORIES:PvE
CREATED:20180422T193708
SUMMARY:Monster Hunting
DESCRIPTION:<p><strong>Monster Hunting - Deathless</strong></p><p>Sign up thread: <a hr
 ef="forums/18/11378">https://www.nine-swords.com/forums/18/11378</a></p>
DTSTAMP:20260422T000915
DTSTART;TZID=UTC:20180423T180000
DTEND;TZID=UTC:20180423T184500
SEQUENCE:0
TRANSP:OPAQUE
END:VEVENT
END:VCALENDAR