BEGIN:VCALENDAR
VERSION:2.0
PRODID:-//jEvents 2.0 for Joomla//EN
CALSCALE:GREGORIAN
METHOD:PUBLISH
BEGIN:VEVENT
UID:936a32b6884f871f364b087d05ec63c9
CATEGORIES:PvE
CREATED:19700101T000000
SUMMARY:Weekly NYR E5 (Sundays)
DESCRIPTION:Sign up in form: \n
X-ALT-DESC;FMTTYPE=text/html:<p>Sign up in form: </p>
DTSTAMP:20260421T222155
DTSTART;TZID=UTC:20181014T193000
DTEND;TZID=UTC:20181014T200000
SEQUENCE:0
RRULE:FREQ=WEEKLY;UNTIL=20181230T000000Z;INTERVAL=1;BYDAY=SU
TRANSP:OPAQUE
END:VEVENT
BEGIN:VEVENT
UID:936a32b6884f871f364b087d05ec63c9
CATEGORIES:PvE
CREATED:20181010T030000
SUMMARY:Weekly NYR E5 (Sundays)
DESCRIPTION:Sign up in form: https://www.nine-swords.com/forums/18/11820 (forums/18/118
 20)\n \n
X-ALT-DESC;FMTTYPE=text/html:<p>Sign up in form: <a href="forums/18/11820">https://www.nine-swords.com/f
 orums/18/11820</a></p><p> </p>
 URL;VALUE=URI:https://nine-swords.com/events/eventdetail/2538/-/weekly-nyr-e5-sundays?tmp
 l=component

DTSTAMP:20260421T222155
DTSTART;TZID=UTC:20181104T193000
DTEND;TZID=UTC:20181104T200000
RECURRENCE-ID;TZID=UTC:20181104T193000
SEQUENCE:0
TRANSP:OPAQUE
END:VEVENT
BEGIN:VEVENT
UID:936a32b6884f871f364b087d05ec63c9
CATEGORIES:PvE
CREATED:20181010T030000
SUMMARY:Weekly NYR E5 (Sundays)
DESCRIPTION:Sign up in form: https://www.nine-swords.com/forums/18/11839 (forums/18/118
 39)\n \n
X-ALT-DESC;FMTTYPE=text/html:<p>Sign up in form: <a href="forums/18/11839">https://www.nine-swords.com/f
 orums/18/11839</a></p><p> </p>
 URL;VALUE=URI:https://nine-swords.com/events/eventdetail/2539/-/weekly-nyr-e5-sundays?tmp
 l=component

DTSTAMP:20260421T222155
DTSTART;TZID=UTC:20181111T193000
DTEND;TZID=UTC:20181111T200000
RECURRENCE-ID;TZID=UTC:20181111T193000
SEQUENCE:0
TRANSP:OPAQUE
END:VEVENT
BEGIN:VEVENT
UID:936a32b6884f871f364b087d05ec63c9
CATEGORIES:PvE
CREATED:20181010T030000
SUMMARY:Weekly NYR E5 (Sundays)
DESCRIPTION:Sign up in form: https://www.nine-swords.com/forums/18/11854 (forums/18/118
 54)\n \n
X-ALT-DESC;FMTTYPE=text/html:<p>Sign up in form: <a href="forums/18/11854">https://www.nine-swords.com/f
 orums/18/11854</a></p><p> </p>
 URL;VALUE=URI:https://nine-swords.com/events/eventdetail/2540/-/weekly-nyr-e5-sundays?tmp
 l=component

DTSTAMP:20260421T222155
DTSTART;TZID=UTC:20181118T193000
DTEND;TZID=UTC:20181118T200000
RECURRENCE-ID;TZID=UTC:20181118T193000
SEQUENCE:0
TRANSP:OPAQUE
END:VEVENT
BEGIN:VEVENT
UID:936a32b6884f871f364b087d05ec63c9
CATEGORIES:PvE
CREATED:20181010T030000
SUMMARY:Weekly NYR E5 (Sundays)
DESCRIPTION:Sign up in form: https://www.nine-swords.com/forums/18/11872 (forums/18/118
 72)\n \n
X-ALT-DESC;FMTTYPE=text/html:<p>Sign up in form: <a href="forums/18/11872">https://www.nine-swords.com/f
 orums/18/11872</a></p><p> </p>
 URL;VALUE=URI:https://nine-swords.com/events/eventdetail/2541/-/weekly-nyr-e5-sundays?tmp
 l=component

DTSTAMP:20260421T222155
DTSTART;TZID=UTC:20181125T193000
DTEND;TZID=UTC:20181125T200000
RECURRENCE-ID;TZID=UTC:20181125T193000
SEQUENCE:0
TRANSP:OPAQUE
END:VEVENT
BEGIN:VEVENT
UID:936a32b6884f871f364b087d05ec63c9
CATEGORIES:PvE
CREATED:20181010T030000
SUMMARY:Weekly NYR E5 (Sundays)
DESCRIPTION:Sign up in form: https://www.nine-swords.com/forums/18/11886 (forums/18/118
 86)\n \n
X-ALT-DESC;FMTTYPE=text/html:<p>Sign up in form: <a href="forums/18/11886">https://www.nine-swords.com/f
 orums/18/11886</a></p><p> </p>
 URL;VALUE=URI:https://nine-swords.com/events/eventdetail/2542/-/weekly-nyr-e5-sundays?tmp
 l=component

DTSTAMP:20260421T222155
DTSTART;TZID=UTC:20181202T193000
DTEND;TZID=UTC:20181202T200000
RECURRENCE-ID;TZID=UTC:20181202T193000
SEQUENCE:0
TRANSP:OPAQUE
END:VEVENT
BEGIN:VEVENT
UID:936a32b6884f871f364b087d05ec63c9
CATEGORIES:PvE
CREATED:20181010T030000
SUMMARY:Weekly NYR E5 (Sundays)
DESCRIPTION:Sign up in form: https://www.nine-swords.com/forums/18/11898 (forums/18/118
 98)\n \n
X-ALT-DESC;FMTTYPE=text/html:<p>Sign up in form: <a href="forums/18/11898">https://www.nine-swords.com/f
 orums/18/11898</a></p><p> </p>
 URL;VALUE=URI:https://nine-swords.com/events/eventdetail/2543/-/weekly-nyr-e5-sundays?tmp
 l=component

DTSTAMP:20260421T222155
DTSTART;TZID=UTC:20181209T193000
DTEND;TZID=UTC:20181209T200000
RECURRENCE-ID;TZID=UTC:20181209T193000
SEQUENCE:0
TRANSP:OPAQUE
END:VEVENT
BEGIN:VEVENT
UID:936a32b6884f871f364b087d05ec63c9
CATEGORIES:PvE
CREATED:20181010T030000
SUMMARY:Weekly NYR E5 (Sundays)
DESCRIPTION:Sign up in form: https://www.nine-swords.com/forums/18/11911 (forums/18/119
 11)\n \n
X-ALT-DESC;FMTTYPE=text/html:<p>Sign up in form: <a href="forums/18/11911">https://www.nine-swords.com/f
 orums/18/11911</a></p><p> </p>
 URL;VALUE=URI:https://nine-swords.com/events/eventdetail/2544/-/weekly-nyr-e5-sundays?tmp
 l=component

DTSTAMP:20260421T222155
DTSTART;TZID=UTC:20181216T193000
DTEND;TZID=UTC:20181216T200000
RECURRENCE-ID;TZID=UTC:20181216T193000
SEQUENCE:0
TRANSP:OPAQUE
END:VEVENT
BEGIN:VEVENT
UID:936a32b6884f871f364b087d05ec63c9
CATEGORIES:PvE
CREATED:20181010T030000
SUMMARY:Weekly NYR E5 (Sundays)
DESCRIPTION:Sign up in form: https://www.nine-swords.com/forums/18/11930 (forums/18/119
 30)\n \n
X-ALT-DESC;FMTTYPE=text/html:<p>Sign up in form: <a href="forums/18/11930">https://www.nine-swords.com/f
 orums/18/11930</a></p><p> </p>
 URL;VALUE=URI:https://nine-swords.com/events/eventdetail/2545/-/weekly-nyr-e5-sundays?tmp
 l=component

DTSTAMP:20260421T222155
DTSTART;TZID=UTC:20181223T193000
DTEND;TZID=UTC:20181223T200000
RECURRENCE-ID;TZID=UTC:20181223T193000
SEQUENCE:0
TRANSP:OPAQUE
END:VEVENT
END:VCALENDAR