BEGIN:VCALENDAR
VERSION:2.0
PRODID:-//jEvents 2.0 for Joomla//EN
CALSCALE:GREGORIAN
METHOD:PUBLISH
BEGIN:VEVENT
UID:2d313cc6c6b8a5dbf1cc70365ff66763
CATEGORIES:PvE
CREATED:19700101T000000
SUMMARY:Monster Hunting
DESCRIPTION:<p style="background-attachment: scroll; background-clip: border-box; backg
 round-color: transparent; background-image: none; background-origin: paddin
 g-box; background-position-x: 0%; background-position-y: 0%; background-rep
 eat: repeat; background-size: auto; color: #333333; font-family: Tahoma,Hel
 vetica,Arial,sans-serif; font-size: 12.13px; font-style: normal; font-varia
 nt: normal; font-weight: 400; letter-spacing: normal; line-height: 15.77px;
  min-height: 0px; orphans: 2; text-align: left; text-decoration: none; text
 -indent: 0px; text-transform: none; -webkit-text-stroke-width: 0px; white-s
 pace: normal; word-spacing: 0px;">Weekly Monster Hunting - </p><p style="ba
 ckground-attachment: scroll; background-clip: border-box; background-color:
  transparent; background-image: none; background-origin: padding-box; backg
 round-position-x: 0%; background-position-y: 0%; background-repeat: repeat;
  background-size: auto; color: #333333; font-family: Tahoma,Helvetica,Arial
 ,sans-serif; font-size: 12.13px; font-style: normal; font-variant: normal; 
 font-weight: 400; letter-spacing: normal; line-height: 15.77px; min-height:
  0px; orphans: 2; text-align: left; text-decoration: none; text-indent: 0px
 ; text-transform: none; -webkit-text-stroke-width: 0px; white-space: normal
 ; word-spacing: 0px;">See the new thread created each week in the Noticeboa
 rd forum area for the target for the 45minutes hunting session!</p><p style
 ="background-attachment: scroll; background-clip: border-box; background-co
 lor: transparent; background-image: none; background-origin: padding-box; b
 ackground-position-x: 0%; background-position-y: 0%; background-repeat: rep
 eat; background-size: auto; color: #333333; font-family: Tahoma,Helvetica,A
 rial,sans-serif; font-size: 12.13px; font-style: normal; font-variant: norm
 al; font-weight: 400; letter-spacing: normal; line-height: 15.77px; min-hei
 ght: 0px; orphans: 2; text-align: left; text-decoration: none; text-indent:
  0px; text-transform: none; -webkit-text-stroke-width: 0px; white-space: no
 rmal; word-spacing: 0px;"> </p><p style="background-attachment: scroll; bac
 kground-clip: border-box; background-color: transparent; background-image: 
 none; background-origin: padding-box; background-position-x: 0%; background
 -position-y: 0%; background-repeat: repeat; background-size: auto; color: #
 333333; font-family: Tahoma,Helvetica,Arial,sans-serif; font-size: 12.13px;
  font-style: normal; font-variant: normal; font-weight: 400; letter-spacing
 : normal; line-height: 15.77px; min-height: 0px; orphans: 2; text-align: le
 ft; text-decoration: none; text-indent: 0px; text-transform: none; -webkit-
 text-stroke-width: 0px; white-space: normal; word-spacing: 0px;">Mondays, 1
 9:00GMT - 19:45GMT</p><p style="background-attachment: scroll; background-c
 lip: border-box; background-color: transparent; background-image: none; bac
 kground-origin: padding-box; background-position-x: 0%; background-position
 -y: 0%; background-repeat: repeat; background-size: auto; color: #333333; f
 ont-family: Tahoma,Helvetica,Arial,sans-serif; font-size: 12.13px; font-sty
 le: normal; font-variant: normal; font-weight: 400; letter-spacing: normal;
  line-height: 15.77px; min-height: 0px; orphans: 2; text-align: left; text-
 decoration: none; text-indent: 0px; text-transform: none; -webkit-text-stro
 ke-width: 0px; white-space: normal; word-spacing: 0px;"><a style="color: #1
 b57b1; font-weight: 400; text-decoration: none;" href="forums/18">Noticeboa
 rd forum area</a></p>
DTSTAMP:20260421T222257
DTSTART;TZID=UTC:20181029T190000
DTEND;TZID=UTC:20181029T194500
SEQUENCE:0
RRULE:FREQ=WEEKLY;UNTIL=20181218T000000Z;INTERVAL=1;BYDAY=MO
TRANSP:OPAQUE
END:VEVENT
BEGIN:VEVENT
UID:2d313cc6c6b8a5dbf1cc70365ff66763
CATEGORIES:PvE
CREATED:20181028T205338
SUMMARY:Monster Hunting
DESCRIPTION:<p style="background-attachment: scroll; background-clip: border-box; backg
 round-color: transparent; background-image: none; background-origin: paddin
 g-box; background-position-x: 0%; background-position-y: 0%; background-rep
 eat: repeat; background-size: auto; color: #333333; font-family: Tahoma,Hel
 vetica,Arial,sans-serif; font-size: 12.13px; font-style: normal; font-varia
 nt: normal; font-weight: 400; letter-spacing: normal; line-height: 15.77px;
  min-height: 0px; orphans: 2; text-align: left; text-decoration: none; text
 -indent: 0px; text-transform: none; -webkit-text-stroke-width: 0px; white-s
 pace: normal; word-spacing: 0px;">Weekly Monster Hunting - </p><p style="ba
 ckground-attachment: scroll; background-clip: border-box; background-color:
  transparent; background-image: none; background-origin: padding-box; backg
 round-position-x: 0%; background-position-y: 0%; background-repeat: repeat;
  background-size: auto; color: #333333; font-family: Tahoma,Helvetica,Arial
 ,sans-serif; font-size: 12.13px; font-style: normal; font-variant: normal; 
 font-weight: 400; letter-spacing: normal; line-height: 15.77px; min-height:
  0px; orphans: 2; text-align: left; text-decoration: none; text-indent: 0px
 ; text-transform: none; -webkit-text-stroke-width: 0px; white-space: normal
 ; word-spacing: 0px;">See the new thread created each week in the Noticeboa
 rd forum area for the target for the 45minutes hunting session!</p><p style
 ="background-attachment: scroll; background-clip: border-box; background-co
 lor: transparent; background-image: none; background-origin: padding-box; b
 ackground-position-x: 0%; background-position-y: 0%; background-repeat: rep
 eat; background-size: auto; color: #333333; font-family: Tahoma,Helvetica,A
 rial,sans-serif; font-size: 12.13px; font-style: normal; font-variant: norm
 al; font-weight: 400; letter-spacing: normal; line-height: 15.77px; min-hei
 ght: 0px; orphans: 2; text-align: left; text-decoration: none; text-indent:
  0px; text-transform: none; -webkit-text-stroke-width: 0px; white-space: no
 rmal; word-spacing: 0px;"> </p><p style="background-attachment: scroll; bac
 kground-clip: border-box; background-color: transparent; background-image: 
 none; background-origin: padding-box; background-position-x: 0%; background
 -position-y: 0%; background-repeat: repeat; background-size: auto; color: #
 333333; font-family: Tahoma,Helvetica,Arial,sans-serif; font-size: 12.13px;
  font-style: normal; font-variant: normal; font-weight: 400; letter-spacing
 : normal; line-height: 15.77px; min-height: 0px; orphans: 2; text-align: le
 ft; text-decoration: none; text-indent: 0px; text-transform: none; -webkit-
 text-stroke-width: 0px; white-space: normal; word-spacing: 0px;">Mondays, 1
 9:10GMT - 19:55GMT</p><p style="background-attachment: scroll; background-c
 lip: border-box; background-color: transparent; background-image: none; bac
 kground-origin: padding-box; background-position-x: 0%; background-position
 -y: 0%; background-repeat: repeat; background-size: auto; color: #333333; f
 ont-family: Tahoma,Helvetica,Arial,sans-serif; font-size: 12.13px; font-sty
 le: normal; font-variant: normal; font-weight: 400; letter-spacing: normal;
  line-height: 15.77px; min-height: 0px; orphans: 2; text-align: left; text-
 decoration: none; text-indent: 0px; text-transform: none; -webkit-text-stro
 ke-width: 0px; white-space: normal; word-spacing: 0px;"><a style="color: #1
 b57b1; font-weight: 400; text-decoration: none;" href="forums/18">Noticeboa
 rd forum area</a></p>
 URL;VALUE=URI:https://nine-swords.com/events/eventdetail/2554/-/monster-hunting?tmpl=comp
 onent

DTSTAMP:20260421T222257
DTSTART;TZID=UTC:20181217T191000
DTEND;TZID=UTC:20181217T195500
RECURRENCE-ID;TZID=UTC:20181217T190000
SEQUENCE:0
TRANSP:OPAQUE
END:VEVENT
END:VCALENDAR