BEGIN:VCALENDAR
VERSION:2.0
PRODID:-//jEvents 2.0 for Joomla//EN
CALSCALE:GREGORIAN
METHOD:PUBLISH
BEGIN:VEVENT
UID:ca63530e99422debc475e3bec091a31b
CATEGORIES:Social
CREATED:20181208T122051
SUMMARY:Seasonal Screenshot
DESCRIPTION:See the thread here for details : \nhttps://www.nine-swords.com/forums/18/1
 1903\n
X-ALT-DESC;FMTTYPE=text/html:<p>See the thread here for details : </p><p>https://www.nine-swords.com/for
 ums/18/11903</p>
DTSTAMP:20260421T222154
DTSTART;TZID=UTC:20181208T190000
DTEND;TZID=UTC:20181208T191000
SEQUENCE:0
TRANSP:OPAQUE
END:VEVENT
END:VCALENDAR