BEGIN:VCALENDAR
VERSION:2.0
PRODID:-//jEvents 2.0 for Joomla//EN
CALSCALE:GREGORIAN
METHOD:PUBLISH
BEGIN:VEVENT
UID:96ae1c05a84a639be1ab0c6e5eabf662
CATEGORIES:PvE
CREATED:20181215T104724
SUMMARY:Scheduled Lair
DESCRIPTION:Please sign up in the Noticeboard for this scheduled lair run! \nWill likel
 y do 2 lairs in the allotted time.\nthanks :)\n
X-ALT-DESC;FMTTYPE=text/html:<p>Please sign up in the Noticeboard for this scheduled lair run! </p><p>Wi
 ll likely do 2 lairs in the allotted time.</p><p>thanks :)</p>
DTSTAMP:20260421T222153
DTSTART;TZID=UTC:20181217T201000
DTEND;TZID=UTC:20181217T211000
SEQUENCE:0
TRANSP:OPAQUE
END:VEVENT
END:VCALENDAR