BEGIN:VCALENDAR
VERSION:2.0
PRODID:-//jEvents 2.0 for Joomla//EN
CALSCALE:GREGORIAN
METHOD:PUBLISH
BEGIN:VEVENT
UID:a8c70d9254aea066d1528e6550ece76e
CATEGORIES:PvE
CREATED:19700101T000000
SUMMARY:Weekly NYR E5 (Sunday)
DESCRIPTION:Requires ip 450+, Sign-up here:\n
X-ALT-DESC;FMTTYPE=text/html:<p>Requires ip 450+, Sign-up here:</p>
DTSTAMP:20260421T191559
DTSTART;TZID=UTC:Ymd\THis
DTEND;TZID=UTC:20181230T200000
SEQUENCE:0
RRULE:FREQ=WEEKLY;UNTIL=20190401T000000Z;INTERVAL=1;BYDAY=SU
TRANSP:OPAQUE
END:VEVENT
BEGIN:VEVENT
UID:a8c70d9254aea066d1528e6550ece76e
CATEGORIES:PvE
CREATED:20181225T190704
SUMMARY:Weekly NYR E5 (Sunday)
DESCRIPTION:Requires ip 450+, Sign-up here: https://www.nine-swords.com/forums/18/11936
  (forums/18/11936)\n \n
X-ALT-DESC;FMTTYPE=text/html:<p>Requires ip 450+, Sign-up here: <a href="forums/18/11936">https://www.ni
 ne-swords.com/forums/18/11936</a></p><p> </p>
 URL;VALUE=URI:https://nine-swords.com/events/eventdetail/2725/-/weekly-nyr-e5-sunday?tmpl
 =component

DTSTAMP:20260421T191559
DTSTART;TZID=UTC:20181230T193000
DTEND;TZID=UTC:20181230T200000
RECURRENCE-ID;TZID=UTC:20181230T193000
SEQUENCE:0
TRANSP:OPAQUE
END:VEVENT
BEGIN:VEVENT
UID:a8c70d9254aea066d1528e6550ece76e
CATEGORIES:PvE
CREATED:20181225T190704
SUMMARY:Weekly NYR E5 (Sunday)
DESCRIPTION:Requires ip 450+, Sign-up here: https://www.nine-swords.com/forums/18/11942
  (forums/18/11942)\n \n
X-ALT-DESC;FMTTYPE=text/html:<p>Requires ip 450+, Sign-up here: <a href="forums/18/11942">https://www.ni
 ne-swords.com/forums/18/11942</a></p><p> </p>
 URL;VALUE=URI:https://nine-swords.com/events/eventdetail/2726/-/weekly-nyr-e5-sunday?tmpl
 =component

DTSTAMP:20260421T191559
DTSTART;TZID=UTC:20190106T193000
DTEND;TZID=UTC:20190106T200000
RECURRENCE-ID;TZID=UTC:20190106T193000
SEQUENCE:0
TRANSP:OPAQUE
END:VEVENT
BEGIN:VEVENT
UID:a8c70d9254aea066d1528e6550ece76e
CATEGORIES:PvE
CREATED:20181225T190704
SUMMARY:Weekly NYR E5 (Sunday)
DESCRIPTION:Requires ip 450+, Sign-up here: https://www.nine-swords.com/forums/18/11951
  (forums/18/11951)\n \n
X-ALT-DESC;FMTTYPE=text/html:<p>Requires ip 450+, Sign-up here: <a href="forums/18/11951">https://www.ni
 ne-swords.com/forums/18/11951</a></p><p> </p>
 URL;VALUE=URI:https://nine-swords.com/events/eventdetail/2727/-/weekly-nyr-e5-sunday?tmpl
 =component

DTSTAMP:20260421T191559
DTSTART;TZID=UTC:20190113T193000
DTEND;TZID=UTC:20190113T200000
RECURRENCE-ID;TZID=UTC:20190113T193000
SEQUENCE:0
TRANSP:OPAQUE
END:VEVENT
BEGIN:VEVENT
UID:a8c70d9254aea066d1528e6550ece76e
CATEGORIES:PvE
CREATED:20181225T190704
SUMMARY:Weekly NYR E5 (Sunday)
DESCRIPTION:Requires ip 450+, Sign-up here: https://www.nine-swords.com/forums/18/11968
  (forums/18/11968)\n \n
X-ALT-DESC;FMTTYPE=text/html:<p>Requires ip 450+, Sign-up here: <a href="forums/18/11968">https://www.ni
 ne-swords.com/forums/18/11968</a></p><p> </p>
 URL;VALUE=URI:https://nine-swords.com/events/eventdetail/2728/-/weekly-nyr-e5-sunday?tmpl
 =component

DTSTAMP:20260421T191559
DTSTART;TZID=UTC:20190120T193000
DTEND;TZID=UTC:20190120T200000
RECURRENCE-ID;TZID=UTC:20190120T193000
SEQUENCE:0
TRANSP:OPAQUE
END:VEVENT
BEGIN:VEVENT
UID:a8c70d9254aea066d1528e6550ece76e
CATEGORIES:PvE
CREATED:20181225T190704
SUMMARY:Weekly NYR E5 (Sunday)
DESCRIPTION:Requires ip 450+, Sign-up here: https://www.nine-swords.com/forums/18/11980
  (forums/18/11980)\n \n
X-ALT-DESC;FMTTYPE=text/html:<p>Requires ip 450+, Sign-up here: <a href="forums/18/11980">https://www.ni
 ne-swords.com/forums/18/11980</a></p><p> </p>
 URL;VALUE=URI:https://nine-swords.com/events/eventdetail/2729/-/weekly-nyr-e5-sunday?tmpl
 =component

DTSTAMP:20260421T191559
DTSTART;TZID=UTC:20190127T193000
DTEND;TZID=UTC:20190127T200000
RECURRENCE-ID;TZID=UTC:20190127T193000
SEQUENCE:0
TRANSP:OPAQUE
END:VEVENT
BEGIN:VEVENT
UID:a8c70d9254aea066d1528e6550ece76e
CATEGORIES:PvE
CREATED:20181225T190704
SUMMARY:Weekly NYR E5 (Sunday)
DESCRIPTION:Requires ip 450+, Sign-up here: https://www.nine-swords.com/forums/18/12003
  (forums/18/12003)\n \n
X-ALT-DESC;FMTTYPE=text/html:<p>Requires ip 450+, Sign-up here: <a href="forums/18/12003">https://www.ni
 ne-swords.com/forums/18/12003</a></p><p> </p>
 URL;VALUE=URI:https://nine-swords.com/events/eventdetail/2730/-/weekly-nyr-e5-sunday?tmpl
 =component

DTSTAMP:20260421T191559
DTSTART;TZID=UTC:20190203T193000
DTEND;TZID=UTC:20190203T200000
RECURRENCE-ID;TZID=UTC:20190203T193000
SEQUENCE:0
TRANSP:OPAQUE
END:VEVENT
BEGIN:VEVENT
UID:a8c70d9254aea066d1528e6550ece76e
CATEGORIES:PvE
CREATED:20181225T190704
SUMMARY:Weekly NYR E5 (Sunday)
DESCRIPTION:Requires ip 450+, Sign-up here: https://www.nine-swords.com/forums/18/12016
  (forums/18/12016)\n \n
X-ALT-DESC;FMTTYPE=text/html:<p>Requires ip 450+, Sign-up here: <a href="forums/18/12016">https://www.ni
 ne-swords.com/forums/18/12016</a></p><p> </p>
 URL;VALUE=URI:https://nine-swords.com/events/eventdetail/2731/-/weekly-nyr-e5-sunday?tmpl
 =component

DTSTAMP:20260421T191559
DTSTART;TZID=UTC:20190210T193000
DTEND;TZID=UTC:20190210T200000
RECURRENCE-ID;TZID=UTC:20190210T193000
SEQUENCE:0
TRANSP:OPAQUE
END:VEVENT
BEGIN:VEVENT
UID:a8c70d9254aea066d1528e6550ece76e
CATEGORIES:PvE
CREATED:20181225T190704
SUMMARY:Weekly NYR E5 (Sunday)
DESCRIPTION:Requires ip 450+, Sign-up here: https://www.nine-swords.com/forums/18/12034
  (forums/18/12034)\n \n
X-ALT-DESC;FMTTYPE=text/html:<p>Requires ip 450+, Sign-up here: <a href="forums/18/12034">https://www.ni
 ne-swords.com/forums/18/12034</a></p><p> </p>
 URL;VALUE=URI:https://nine-swords.com/events/eventdetail/2732/-/weekly-nyr-e5-sunday?tmpl
 =component

DTSTAMP:20260421T191559
DTSTART;TZID=UTC:20190217T193000
DTEND;TZID=UTC:20190217T200000
RECURRENCE-ID;TZID=UTC:20190217T193000
SEQUENCE:0
TRANSP:OPAQUE
END:VEVENT
BEGIN:VEVENT
UID:a8c70d9254aea066d1528e6550ece76e
CATEGORIES:PvE
CREATED:20181225T190704
SUMMARY:Weekly NYR E5 (Sunday)
DESCRIPTION:Requires ip 450+, Sign-up here: https://www.nine-swords.com/forums/18/12059
  (forums/18/12059)\n \n
X-ALT-DESC;FMTTYPE=text/html:<p>Requires ip 450+, Sign-up here: <a href="forums/18/12059">https://www.ni
 ne-swords.com/forums/18/12059</a></p><p> </p>
 URL;VALUE=URI:https://nine-swords.com/events/eventdetail/2733/-/weekly-nyr-e5-sunday?tmpl
 =component

DTSTAMP:20260421T191559
DTSTART;TZID=UTC:20190224T193000
DTEND;TZID=UTC:20190224T200000
RECURRENCE-ID;TZID=UTC:20190224T193000
SEQUENCE:0
TRANSP:OPAQUE
END:VEVENT
BEGIN:VEVENT
UID:a8c70d9254aea066d1528e6550ece76e
CATEGORIES:PvE
CREATED:20181225T190704
SUMMARY:Weekly NYR E5 (Sunday)
DESCRIPTION:Requires ip 450+, Sign-up here: https://www.nine-swords.com/forums/18/12071
  (forums/18/12071)\n \n
X-ALT-DESC;FMTTYPE=text/html:<p>Requires ip 450+, Sign-up here: <a href="forums/18/12071">https://www.ni
 ne-swords.com/forums/18/12071</a></p><p> </p>
 URL;VALUE=URI:https://nine-swords.com/events/eventdetail/2734/-/weekly-nyr-e5-sunday?tmpl
 =component

DTSTAMP:20260421T191559
DTSTART;TZID=UTC:20190303T193000
DTEND;TZID=UTC:20190303T200000
RECURRENCE-ID;TZID=UTC:20190303T193000
SEQUENCE:0
TRANSP:OPAQUE
END:VEVENT
BEGIN:VEVENT
UID:a8c70d9254aea066d1528e6550ece76e
CATEGORIES:PvE
CREATED:20181225T190704
SUMMARY:Weekly NYR E5 (Sunday)
DESCRIPTION:Requires ip 450+, Sign-up here: https://www.nine-swords.com/forums/18/12093
  (forums/18/12093)\n \n
X-ALT-DESC;FMTTYPE=text/html:<p>Requires ip 450+, Sign-up here: <a href="forums/18/12093">https://www.ni
 ne-swords.com/forums/18/12093</a></p><p> </p>
 URL;VALUE=URI:https://nine-swords.com/events/eventdetail/2735/-/weekly-nyr-e5-sunday?tmpl
 =component

DTSTAMP:20260421T191559
DTSTART;TZID=UTC:20190310T193000
DTEND;TZID=UTC:20190310T200000
RECURRENCE-ID;TZID=UTC:20190310T193000
SEQUENCE:0
TRANSP:OPAQUE
END:VEVENT
BEGIN:VEVENT
UID:a8c70d9254aea066d1528e6550ece76e
CATEGORIES:PvE
CREATED:20181225T190704
SUMMARY:Weekly NYR E5 (Sunday)
DESCRIPTION:Requires ip 450+, Sign-up here: https://www.nine-swords.com/forums/18/12107
  (forums/18/12107)\n \n
X-ALT-DESC;FMTTYPE=text/html:<p>Requires ip 450+, Sign-up here: <a href="forums/18/12107">https://www.ni
 ne-swords.com/forums/18/12107</a></p><p> </p>
 URL;VALUE=URI:https://nine-swords.com/events/eventdetail/2736/-/weekly-nyr-e5-sunday?tmpl
 =component

DTSTAMP:20260421T191559
DTSTART;TZID=UTC:20190317T193000
DTEND;TZID=UTC:20190317T200000
RECURRENCE-ID;TZID=UTC:20190317T193000
SEQUENCE:0
TRANSP:OPAQUE
END:VEVENT
BEGIN:VEVENT
UID:a8c70d9254aea066d1528e6550ece76e
CATEGORIES:PvE
CREATED:20181225T190704
SUMMARY:Weekly NYR E5 (Sunday)
DESCRIPTION:Requires ip 450+, Sign-up here: https://www.nine-swords.com/forums/18/12120
  (forums/18/12120)\n \n
X-ALT-DESC;FMTTYPE=text/html:<p>Requires ip 450+, Sign-up here: <a href="forums/18/12120">https://www.ni
 ne-swords.com/forums/18/12120</a></p><p> </p>
 URL;VALUE=URI:https://nine-swords.com/events/eventdetail/2737/-/weekly-nyr-e5-sunday?tmpl
 =component

DTSTAMP:20260421T191559
DTSTART;TZID=UTC:20190324T193000
DTEND;TZID=UTC:20190324T200000
RECURRENCE-ID;TZID=UTC:20190324T193000
SEQUENCE:0
TRANSP:OPAQUE
END:VEVENT
BEGIN:VEVENT
UID:a8c70d9254aea066d1528e6550ece76e
CATEGORIES:PvE
CREATED:20181225T190704
SUMMARY:Weekly NYR E5 (Sunday)
DESCRIPTION:Requires ip 450+, Sign-up here: https://www.nine-swords.com/forums/18/12130
  (forums/18/12130)\n \n
X-ALT-DESC;FMTTYPE=text/html:<p>Requires ip 450+, Sign-up here: <a href="forums/18/12130">https://www.ni
 ne-swords.com/forums/18/12130</a></p><p> </p>
 URL;VALUE=URI:https://nine-swords.com/events/eventdetail/2738/-/weekly-nyr-e5-sunday?tmpl
 =component

DTSTAMP:20260421T191559
DTSTART;TZID=UTC:20190331T193000
DTEND;TZID=UTC:20190331T200000
RECURRENCE-ID;TZID=UTC:20190331T193000
SEQUENCE:0
TRANSP:OPAQUE
END:VEVENT
END:VCALENDAR