BEGIN:VCALENDAR
VERSION:2.0
PRODID:-//jEvents 2.0 for Joomla//EN
CALSCALE:GREGORIAN
METHOD:PUBLISH
BEGIN:VEVENT
UID:224ea5f297f877898a1f2207a41ccdbd
CATEGORIES:PvE
CREATED:19700101T000000
SUMMARY:Weekly x2 Lairs!
DESCRIPTION:<p>Weekly Double Lairs! No sign-up reguired, just be there 5 mins before ev
 ent for invite. We may make 2 raids if more people want to join. Lairs to b
 e determined on date of event. Come get your lair achievement, loot, or jus
 t enjoy some company with fellow 9S.</p><p>Please clear your inventory as m
 uch as possible prior to joining.</p><p>Better yet, download the addon that
  will help you match the distillate with the desire upgrade item to clear y
 our inventory quickly. <a href="https://swl.curseforge.com/projects/empower
 ment-helper">https://swl.curseforge.com/projects/empowerment-helper</a></p>
 <p> </p>
DTSTAMP:20260421T204515
DTSTART;TZID=UTC:20180518T183000
DTEND;TZID=UTC:20180518T193000
SEQUENCE:0
RRULE:FREQ=WEEKLY;UNTIL=20190630T000000Z;INTERVAL=1;BYDAY=FR
TRANSP:OPAQUE
END:VEVENT
END:VCALENDAR