BEGIN:VCALENDAR
VERSION:2.0
PRODID:-//jEvents 2.0 for Joomla//EN
CALSCALE:GREGORIAN
METHOD:PUBLISH
BEGIN:VEVENT
UID:a424d2873ee463625bf252e2072ca115
CATEGORIES:PvE
CREATED:19700101T000000
SUMMARY:Monster Hunting
DESCRIPTION:<p>Weekly Monster Hunting -</p><p>Check out the Noticeboard forum for sign 
 up and target information.</p><p> </p>
DTSTAMP:20260421T175057
DTSTART;TZID=UTC:20190107T190000
DTEND;TZID=UTC:20190107T194500
SEQUENCE:0
RRULE:FREQ=WEEKLY;UNTIL=20190129T000000Z;INTERVAL=1;BYDAY=MO
TRANSP:OPAQUE
END:VEVENT
END:VCALENDAR