BEGIN:VCALENDAR
VERSION:2.0
PRODID:-//jEvents 2.0 for Joomla//EN
CALSCALE:GREGORIAN
METHOD:PUBLISH
BEGIN:VEVENT
UID:a8f12ec3c730a92343af6d870c4e7757
CATEGORIES:Academy
CREATED:20190106T102134
SUMMARY:Workshop - Mastering The Forums
DESCRIPTION:Continuing on with our Nine Swords Academy Workshops, we will be holding a 
 Workshop called Mastering the Forums.\nThis includes how to find things in 
 our forums, using the calendar efficiently, setting your website profile up
  and the knowledge base.\n \nSign ups via the Noticeboard forum area. \n
X-ALT-DESC;FMTTYPE=text/html:<p>Continuing on with our Nine Swords Academy Workshops, we will be holding
  a Workshop called Mastering the Forums.</p><p>This includes how to find th
 ings in our forums, using the calendar efficiently, setting your website pr
 ofile up and the knowledge base.</p><p> </p><p>Sign ups via the Noticeboard
  forum area. </p>
DTSTAMP:20260423T185702
DTSTART;TZID=UTC:20190119T190000
DTEND;TZID=UTC:20190119T194500
SEQUENCE:0
TRANSP:OPAQUE
END:VEVENT
END:VCALENDAR