BEGIN:VCALENDAR
VERSION:2.0
PRODID:-//jEvents 2.0 for Joomla//EN
CALSCALE:GREGORIAN
METHOD:PUBLISH
BEGIN:VEVENT
UID:9f2649249f3d28162ebbe0f4d9e97cf8
CATEGORIES:PvE
CREATED:20190119T104142
SUMMARY:Scheduled Lair
DESCRIPTION:2 x Lair - probably BM &amp; BF\nSign up here: https://www.nine-swords.com/
 forums/18/11965 (forums/18/11965)\n \n
X-ALT-DESC;FMTTYPE=text/html:<p>2 x Lair - probably BM &amp; BF</p><p>Sign up here: <a href="forums/18/1
 1965">https://www.nine-swords.com/forums/18/11965</a></p><p> </p>
DTSTAMP:20260421T173844
DTSTART;TZID=UTC:20190121T200000
DTEND;TZID=UTC:20190121T210000
SEQUENCE:0
TRANSP:OPAQUE
END:VEVENT
END:VCALENDAR