BEGIN:VCALENDAR
VERSION:2.0
PRODID:-//jEvents 2.0 for Joomla//EN
CALSCALE:GREGORIAN
METHOD:PUBLISH
BEGIN:VEVENT
UID:e214e8fad840ffe0e2aadc100893d838
CATEGORIES:PvE
CREATED:20190126T045323
SUMMARY:Last minute E5- (or lower) Dungeon run
DESCRIPTION:Running an E5 or lower dungeon for those leveling or learning. Higher level
 s are welcome to attend as mentors.\nPlease sign up here. (forums/18/11998?
 p=78454#p78454)\n \n
X-ALT-DESC;FMTTYPE=text/html:<p>Running an E5 or lower dungeon for those leveling or learning. Higher le
 vels are welcome to attend as mentors.</p><p>Please sign up <a href="forums
 /18/11998?p=78454#p78454">here.</a></p><p> </p>
DTSTAMP:20260421T204432
DTSTART;TZID=UTC:20190126T200000
DTEND;TZID=UTC:20190126T210000
SEQUENCE:0
TRANSP:OPAQUE
END:VEVENT
END:VCALENDAR