BEGIN:VCALENDAR
VERSION:2.0
PRODID:-//jEvents 2.0 for Joomla//EN
CALSCALE:GREGORIAN
METHOD:PUBLISH
BEGIN:VEVENT
UID:8a59a6fa3f7addb2139580bc312313e0
CATEGORIES:PvE
CREATED:20190127T195057
SUMMARY:Scheduled Lair
DESCRIPTION:<p>2 x Lair - probably BSD &amp; CotSG</p><p>Sign up in the Noticeboard for
 um!</p><p> </p>
DTSTAMP:20260421T204516
DTSTART;TZID=UTC:20190128T200000
DTEND;TZID=UTC:20190128T210000
SEQUENCE:0
TRANSP:OPAQUE
END:VEVENT
END:VCALENDAR