BEGIN:VCALENDAR
VERSION:2.0
PRODID:-//jEvents 2.0 for Joomla//EN
CALSCALE:GREGORIAN
METHOD:PUBLISH
BEGIN:VEVENT
UID:8fe985207b8359770f30ae0fd792d656
CATEGORIES:Social
CREATED:20190201T160037
SUMMARY:Winner of IP Competition Announcement
DESCRIPTION:Winners will be announced! Advance congratulation to all future winners!\n
X-ALT-DESC;FMTTYPE=text/html:<p>Winners will be announced! Advance congratulation to all future winners!
 </p>
DTSTAMP:20260422T001048
DTSTART;TZID=UTC:20190201T190000
DTEND;TZID=UTC:20190201T193000
SEQUENCE:0
TRANSP:OPAQUE
END:VEVENT
END:VCALENDAR