BEGIN:VCALENDAR
VERSION:2.0
PRODID:-//jEvents 2.0 for Joomla//EN
CALSCALE:GREGORIAN
METHOD:PUBLISH
BEGIN:VEVENT
UID:deaf5bfcdfff4fccf99280b664607bbe
CATEGORIES:Social
CREATED:20190212T170509
SUMMARY:Valentine's bag opening
DESCRIPTION:<p>Let's group up and share the love on Valentine's Day!  If you've already
  opened a bag of St Valentinus you can buy another from the Tree Vendor in 
 Agartha for 100 Third Age Fragments.  There might be another way to buy one
 , but I don't know it!</p>
DTSTAMP:20260422T031256
DTSTART;TZID=UTC:20190214T191500
DTEND;TZID=UTC:20190214T193000
SEQUENCE:0
TRANSP:OPAQUE
END:VEVENT
END:VCALENDAR