BEGIN:VCALENDAR
VERSION:2.0
PRODID:-//jEvents 2.0 for Joomla//EN
CALSCALE:GREGORIAN
METHOD:PUBLISH
BEGIN:VEVENT
UID:e1e2779d1e248e4e780650c2c24f0a89
CATEGORIES:Social
CREATED:20190331T093330
SUMMARY:Cabal Pride 6!
DESCRIPTION:Information incoming! \n
X-ALT-DESC;FMTTYPE=text/html:<p>Information incoming! </p>
DTSTAMP:20260422T014227
DTSTART;TZID=UTC:20190511T180000
DTEND;TZID=UTC:20190511T210000
SEQUENCE:0
TRANSP:OPAQUE
END:VEVENT
END:VCALENDAR