BEGIN:VCALENDAR
VERSION:2.0
PRODID:-//jEvents 2.0 for Joomla//EN
CALSCALE:GREGORIAN
METHOD:PUBLISH
BEGIN:VEVENT
UID:b1171689d2dd870e066a4f65288c3485
CATEGORIES:PvE
CREATED:19700101T000000
SUMMARY:Achievement Hunting!
DESCRIPTION:Achievement hunting time slot - see Noticeboard forum for target / goal for
  this session and of course to sign up!\n
X-ALT-DESC;FMTTYPE=text/html:<p>Achievement hunting time slot - see Noticeboard forum for target / goal 
 for this session and of course to sign up!</p>
DTSTAMP:20260422T081155
DTSTART;TZID=UTC:20190513T180000
DTEND;TZID=UTC:20190513T184500
SEQUENCE:0
RRULE:FREQ=WEEKLY;UNTIL=20190611T000000Z;INTERVAL=1;BYDAY=MO
EXDATE;TZID=UTC:20190527T180000
TRANSP:OPAQUE
END:VEVENT
END:VCALENDAR