BEGIN:VCALENDAR
VERSION:2.0
PRODID:-//jEvents 2.0 for Joomla//EN
CALSCALE:GREGORIAN
METHOD:PUBLISH
BEGIN:VEVENT
UID:63d7ca1bce2e9c536cac2cc5aaf2ea1f
CATEGORIES:PvE
CREATED:19700101T000000
SUMMARY:Double Lair
DESCRIPTION:<p>Sign up for our double lair slot in the noticeboard forum!</p>
DTSTAMP:20260422T081303
DTSTART;TZID=UTC:20190513T190000
DTEND;TZID=UTC:20190513T200000
SEQUENCE:0
RRULE:FREQ=WEEKLY;UNTIL=20190611T000000Z;INTERVAL=1;BYDAY=MO
TRANSP:OPAQUE
END:VEVENT
BEGIN:VEVENT
UID:63d7ca1bce2e9c536cac2cc5aaf2ea1f
CATEGORIES:PvE
CREATED:20190512T090530
SUMMARY:Cancelled - Double Lair
DESCRIPTION:<p>Cancelled due to lack of sign ups. </p><p> </p>
 URL;VALUE=URI:https://nine-swords.com/events/eventdetail/3214/-/cancelled-double-lair?tmp
 l=component

DTSTAMP:20260422T081303
DTSTART;TZID=UTC:20190603T190000
DTEND;TZID=UTC:20190603T200000
RECURRENCE-ID;TZID=UTC:20190603T190000
SEQUENCE:0
TRANSP:OPAQUE
END:VEVENT
END:VCALENDAR