BEGIN:VCALENDAR
VERSION:2.0
PRODID:-//jEvents 2.0 for Joomla//EN
CALSCALE:GREGORIAN
METHOD:PUBLISH
BEGIN:VEVENT
UID:51f4273ac3856df129685781cf972b4a
CATEGORIES:PvE
CREATED:20190630T132157
SUMMARY:Double Lair
DESCRIPTION:Double Lair - starting as soon as the Talos is down.\nSign up in the Notice
 board forum!\n
X-ALT-DESC;FMTTYPE=text/html:<p>Double Lair - starting as soon as the Talos is down.</p><p>Sign up in th
 e Noticeboard forum!</p>
DTSTAMP:20260422T174711
DTSTART;TZID=UTC:20190701T190000
DTEND;TZID=UTC:20190701T200000
SEQUENCE:0
TRANSP:OPAQUE
END:VEVENT
END:VCALENDAR