BEGIN:VCALENDAR
VERSION:2.0
PRODID:-//jEvents 2.0 for Joomla//EN
CALSCALE:GREGORIAN
METHOD:PUBLISH
BEGIN:VEVENT
UID:b84d8beb9be6eb487aada5023a501e01
CATEGORIES:PvE
CREATED:19700101T000000
SUMMARY:NYR E10 (2nd Chance)
DESCRIPTION:YES! More Sushi!\n
X-ALT-DESC;FMTTYPE=text/html:<p>YES! More Sushi!</p>
DTSTAMP:20260422T082730
DTSTART;TZID=UTC:20190720T180000
DTEND;TZID=UTC:20190720T190000
SEQUENCE:0
RRULE:FREQ=WEEKLY;UNTIL=20191027T000000Z;INTERVAL=1;BYDAY=SA
EXDATE;TZID=UTC:20190817T180000
TRANSP:OPAQUE
END:VEVENT
BEGIN:VEVENT
UID:b84d8beb9be6eb487aada5023a501e01
CATEGORIES:PvE
CREATED:20190718T193814
SUMMARY:NYR E10 (2nd Chance)
DESCRIPTION:YES! More Sushi!\n
X-ALT-DESC;FMTTYPE=text/html:<p>YES! More Sushi!</p>
 URL;VALUE=URI:https://nine-swords.com/events/eventdetail/3369/-/nyr-e10-2nd-chance?tmpl=c
 omponent

DTSTAMP:20260422T082730
DTSTART;TZID=UTC:20191012T183000
DTEND;TZID=UTC:20191012T193000
RECURRENCE-ID;TZID=UTC:20191012T180000
SEQUENCE:0
TRANSP:OPAQUE
END:VEVENT
END:VCALENDAR