BEGIN:VCALENDAR
VERSION:2.0
PRODID:-//jEvents 2.0 for Joomla//EN
CALSCALE:GREGORIAN
METHOD:PUBLISH
BEGIN:VEVENT
UID:7678e06a448dee5d3ebb81d69b1f1ec4
CATEGORIES:PvE
CREATED:19700101T000000
SUMMARY:Something Fun!
DESCRIPTION:No sign-up. Dungeon, Lairs, Regionals, WB...\n
X-ALT-DESC;FMTTYPE=text/html:<p>No sign-up. Dungeon, Lairs, Regionals, WB...</p>
DTSTAMP:20260422T160945
DTSTART;TZID=UTC:20190723T183000
DTEND;TZID=UTC:20190723T190000
SEQUENCE:0
RRULE:FREQ=WEEKLY;UNTIL=20190802T000000Z;INTERVAL=1;BYDAY=TU
TRANSP:OPAQUE
END:VEVENT
END:VCALENDAR