BEGIN:VCALENDAR
VERSION:2.0
PRODID:-//jEvents 2.0 for Joomla//EN
CALSCALE:GREGORIAN
METHOD:PUBLISH
BEGIN:VEVENT
UID:6918c744cc313287e3c1d5122e2bf075
CATEGORIES:PvE
CREATED:19700101T000000
SUMMARY:Lair week. 
DESCRIPTION:1 lair on the hour! \n
X-ALT-DESC;FMTTYPE=text/html:<p>1 lair on the hour! </p>
DTSTAMP:20260422T130247
DTSTART;TZID=UTC:20190805T180000
DTEND;TZID=UTC:20190805T183000
SEQUENCE:0
RRULE:FREQ=DAILY;COUNT=5;INTERVAL=1
EXDATE;TZID=UTC:20190809T180000
TRANSP:OPAQUE
END:VEVENT
END:VCALENDAR