BEGIN:VCALENDAR
VERSION:2.0
PRODID:-//jEvents 2.0 for Joomla//EN
CALSCALE:GREGORIAN
METHOD:PUBLISH
BEGIN:VEVENT
UID:05bc864183202760380d5af7769d439c
CATEGORIES:Academy
CREATED:20190926T141917
SUMMARY:WORKSHOP: Leading teams
DESCRIPTION:As part of our 9S "Career Event" :\nWORKSHOP:  Leading Teams\nThis workshop
  will help you learn how to lead a team, and what resources you can use to 
 make it go as smoothly as possible. \n \nSign up: Noticeboard forum (link i
 ncoming)\nAttendance contributes to gaining your Honing the Blades 2019 9S 
 Website Award. (link to details incoming)\n
X-ALT-DESC;FMTTYPE=text/html:<p>As part of our 9S "Career Event" :</p><p>WORKSHOP:  Leading Teams</p><p>
 This workshop will help you learn how to lead a team, and what resources yo
 u can use to make it go as smoothly as possible. </p><p> </p><p>Sign up: No
 ticeboard forum (link incoming)</p><p>Attendance contributes to gaining you
 r Honing the Blades 2019 9S Website Award. (link to details incoming)</p>
DTSTAMP:20260423T190133
DTSTART;TZID=UTC:20191002T173000
DTEND;TZID=UTC:20191002T181500
SEQUENCE:0
TRANSP:OPAQUE
END:VEVENT
END:VCALENDAR