BEGIN:VCALENDAR
VERSION:2.0
PRODID:-//jEvents 2.0 for Joomla//EN
CALSCALE:GREGORIAN
METHOD:PUBLISH
BEGIN:VEVENT
UID:46a6ff413e33274853d2530cc923532e
CATEGORIES:Academy
CREATED:20190926T142104
SUMMARY:WORKSHOP: Scheduling Events
DESCRIPTION:As part of our 9S "Career Event" :\nWORKSHOP:  Scheduling Events\nThis work
 shop will help you learn how to schedule an event and what resources you ca
 n use.\n \nAttendance contributes to gaining your Honing the Blades 2019 9S
  Website Award.\n
X-ALT-DESC;FMTTYPE=text/html:<p>As part of our 9S "Career Event" :</p><p>WORKSHOP:  Scheduling Events</p
 ><p>This workshop will help you learn how to schedule an event and what res
 ources you can use.</p><p> </p><p>Attendance contributes to gaining your Ho
 ning the Blades 2019 9S Website Award.</p>
DTSTAMP:20260423T185702
DTSTART;TZID=UTC:20191001T173000
DTEND;TZID=UTC:20191001T181500
SEQUENCE:0
TRANSP:OPAQUE
END:VEVENT
END:VCALENDAR