BEGIN:VCALENDAR
VERSION:2.0
PRODID:-//jEvents 2.0 for Joomla//EN
CALSCALE:GREGORIAN
METHOD:PUBLISH
BEGIN:VEVENT
UID:4b83235d78d8cf67279881b4416af6fe
CATEGORIES:Academy
CREATED:20190926T143849
SUMMARY:Will be rescheduled. WORKSHOP: Promoting our cabal
DESCRIPTION:<p>As part of our 9S "Career Event" :</p><p>WORKSHOP:  Promoting our Cabal<
 /p><p>This workshop will help you learn how you can positively promote our 
 cabal. </p><p> </p><p><span style="color: #ff0000; font-size: 14pt;">This s
 ession will be re-scheduled. </span></p><p>Attendance contributes to gainin
 g your Honing the Blades 2019 9S Website Award. (link to details incoming)<
 /p>
DTSTAMP:20260423T190352
DTSTART;TZID=UTC:20191005T191500
DTEND;TZID=UTC:20191005T200000
SEQUENCE:0
TRANSP:OPAQUE
END:VEVENT
END:VCALENDAR