BEGIN:VCALENDAR
VERSION:2.0
PRODID:-//jEvents 2.0 for Joomla//EN
CALSCALE:GREGORIAN
METHOD:PUBLISH
BEGIN:VEVENT
UID:b41c6b53d4c7cf9009ee8ec2162148de
CATEGORIES:Academy
CREATED:20190927T165234
SUMMARY:Workshop: Running social events
LOCATION:British Museum of the Occult\, London
DESCRIPTION:<p>This workshop is on social events: brainstorming, planning, promoting, a
 nd running them. We'll run down the basics of putting together events for t
 he cabal or the community at large. A little brainstorming for future event
 s is also welcome.</p>
CONTACT:Yuriksha
DTSTAMP:20260423T185821
DTSTART;TZID=UTC:20191008T173000
DTEND;TZID=UTC:20191008T181500
SEQUENCE:0
TRANSP:OPAQUE
END:VEVENT
END:VCALENDAR