BEGIN:VCALENDAR
VERSION:2.0
PRODID:-//jEvents 2.0 for Joomla//EN
CALSCALE:GREGORIAN
METHOD:PUBLISH
BEGIN:VEVENT
UID:8a9a77cc6f0e38bd949867a3a640b333
CATEGORIES:PvE
CREATED:20191001T174659
SUMMARY:Dungeon Time!
DESCRIPTION:<p>Let's run some dungeons - we'll choose level and how may groups based on
  the number that join in for the fun!</p>
DTSTAMP:20260422T031257
DTSTART;TZID=UTC:20191002T230000
DTEND;TZID=UTC:20191003T000000
SEQUENCE:0
TRANSP:OPAQUE
END:VEVENT
END:VCALENDAR