BEGIN:VCALENDAR
VERSION:2.0
PRODID:-//jEvents 2.0 for Joomla//EN
CALSCALE:GREGORIAN
METHOD:PUBLISH
BEGIN:VEVENT
UID:7536335482d2801d23eaa4e59fee9992
CATEGORIES:PvE
CREATED:20191103T081211
SUMMARY:Double Lair
DESCRIPTION:<p>Double Lairs on Mondays! Sign up in the Noticeboard forum (unless I forg
 et to make a thread ;) )</p><p> </p>
DTSTAMP:20260421T191706
DTSTART;TZID=UTC:20191202T190000
DTEND;TZID=UTC:20191202T194500
SEQUENCE:0
TRANSP:OPAQUE
END:VEVENT
END:VCALENDAR