BEGIN:VCALENDAR
VERSION:2.0
PRODID:-//jEvents 2.0 for Joomla//EN
CALSCALE:GREGORIAN
METHOD:PUBLISH
BEGIN:VEVENT
UID:da4e10fbfd94afe3eccce5a05ac1f2f9
CATEGORIES:PvE
CREATED:20191111T063811
SUMMARY:Weekly World Bosses (Saturday)
DESCRIPTION:Summoning 6 World Bosses - room for 10 people in 2 groups of 5.\n \n You ne
 ed to be level 50 to be able to join.\n \n If another group is already summ
 oning World Bosses, we will do Regional Bosses instead.\n
X-ALT-DESC;FMTTYPE=text/html:<p>Summoning 6 World Bosses - room for 10 people in 2 groups of 5.<br /> <b
 r /> You need to be level 50 to be able to join.<br /> <br /> If another gr
 oup is already summoning World Bosses, we will do Regional Bosses instead.<
 /p>
DTSTAMP:20260421T173832
DTSTART;TZID=UTC:20191214T180000
DTEND;TZID=UTC:20191214T190000
SEQUENCE:0
TRANSP:OPAQUE
END:VEVENT
END:VCALENDAR