BEGIN:VCALENDAR
VERSION:2.0
PRODID:-//jEvents 2.0 for Joomla//EN
CALSCALE:GREGORIAN
METHOD:PUBLISH
BEGIN:VEVENT
UID:191216ecafb97082342deca1048b6b00
CATEGORIES:PvE
CREATED:20191215T191252
SUMMARY:NYR e5 and SM
LOCATION:New York
DESCRIPTION:<p>Running the e5 and Story Mode Ney York Raid.  You just need to be level 
 50 for Story Mode, and e5 requires IP 450+.  Join us!</p>
DTSTAMP:20260421T152838
DTSTART;TZID=UTC:20191229T193000
SEQUENCE:0
TRANSP:OPAQUE
END:VEVENT
END:VCALENDAR