BEGIN:VCALENDAR
VERSION:2.0
PRODID:-//jEvents 2.0 for Joomla//EN
CALSCALE:GREGORIAN
METHOD:PUBLISH
BEGIN:VEVENT
UID:771eb8fbd8317b1db42244266c9359f8
CATEGORIES:PvE
CREATED:20191224T135139
SUMMARY:Weekly NYR E10
DESCRIPTION:<p>Required 1k+ IP. Everyone that meets requirement will be invited!</p>
DTSTAMP:20260421T163533
DTSTART;TZID=UTC:20200118T180000
DTEND;TZID=UTC:20200118T190000
SEQUENCE:0
TRANSP:OPAQUE
END:VEVENT
END:VCALENDAR