BEGIN:VCALENDAR
VERSION:2.0
PRODID:-//jEvents 2.0 for Joomla//EN
CALSCALE:GREGORIAN
METHOD:PUBLISH
BEGIN:VEVENT
UID:196e51043939c8dd00578e34073baa17
CATEGORIES:PvE
CREATED:20200103T202023
SUMMARY:Weekly World Bosses (Sunday)
DESCRIPTION:<p>Summoning 6 World Bosses - room for 10 people in 2 groups of 5.<br /> <b
 r /> You need to be level 50 to be able to join.<br /> <br /> If another gr
 oup is already summoning World Bosses, we will do Regional Bosses instead.<
 /p>
DTSTAMP:20260421T163533
DTSTART;TZID=UTC:20200119T180000
DTEND;TZID=UTC:20200119T190000
SEQUENCE:0
TRANSP:OPAQUE
END:VEVENT
END:VCALENDAR