BEGIN:VCALENDAR
VERSION:2.0
PRODID:-//jEvents 2.0 for Joomla//EN
CALSCALE:GREGORIAN
METHOD:PUBLISH
BEGIN:VEVENT
UID:6078656597bb60e215476290993c0f62
CATEGORIES:PvE
CREATED:20200107T214926
SUMMARY:Weekly Regional Boss Farm
DESCRIPTION:Regional Boss Farm.  Boss to be determined based on amount in cabal bank an
 d group's needs/wants.\nNo IP requirement, but you must be level 50.\nNo si
 gn-up.  However, invites will start at 5 minutes before the event.  If the 
 raid is full, there should be 3 spots for leeching.\n \n
X-ALT-DESC;FMTTYPE=text/html:<p>Regional Boss Farm.  Boss to be determined based on amount in cabal bank
  and group's needs/wants.</p><p>No IP requirement, but you must be level 50
 .</p><p>No sign-up.  However, invites will start at 5 minutes before the ev
 ent.  If the raid is full, there should be 3 spots for leeching.</p><p> </p
 >
DTSTAMP:20260421T162812
DTSTART;TZID=UTC:20200116T193000
DTEND;TZID=UTC:20200116T203000
SEQUENCE:0
TRANSP:OPAQUE
END:VEVENT
END:VCALENDAR