BEGIN:VCALENDAR
VERSION:2.0
PRODID:-//jEvents 2.0 for Joomla//EN
CALSCALE:GREGORIAN
METHOD:PUBLISH
BEGIN:VEVENT
UID:04b57767680a8a279122a6f2c0121ed5
CATEGORIES:PvE
CREATED:20200205T190720
SUMMARY:lair practice
DESCRIPTION:Tanks need practice doing lairs and friday looks sadly empty.\n
X-ALT-DESC;FMTTYPE=text/html:<p>Tanks need practice doing lairs and friday looks sadly empty.</p>
DTSTAMP:20260421T223759
DTSTART;TZID=UTC:20200207T190000
DTEND;TZID=UTC:20200207T200000
SEQUENCE:0
TRANSP:OPAQUE
END:VEVENT
END:VCALENDAR