BEGIN:VCALENDAR
VERSION:2.0
PRODID:-//jEvents 2.0 for Joomla//EN
CALSCALE:GREGORIAN
METHOD:PUBLISH
BEGIN:VEVENT
UID:527f575801fa4b8646aea7d685bfbc90
CATEGORIES:PvE
CREATED:20200302T112729
SUMMARY:lair Friday
DESCRIPTION:<p>Fridays might be slow but lets agree on a lair if there is enough people
  on</p>
DTSTAMP:20260421T193519
DTSTART;TZID=UTC:20200306T190000
DTEND;TZID=UTC:20200306T200000
SEQUENCE:0
TRANSP:OPAQUE
END:VEVENT
END:VCALENDAR