BEGIN:VCALENDAR
VERSION:2.0
PRODID:-//jEvents 2.0 for Joomla//EN
CALSCALE:GREGORIAN
METHOD:PUBLISH
BEGIN:VEVENT
UID:df46e0f14797c7e6bef18884641a85df
CATEGORIES:PvE
CREATED:20200315T162700
SUMMARY:NY Raid e5 & SM
DESCRIPTION:<p>Time to take down some sushi!  We'll run both e5 and story mode (e1 can 
 be done as well, just let us know if you need it). No sign up needed.  Will
  announce in cabal chat to group up then go to LFG if we need more to join 
 us.</p><p>You just need to be level 50 for story mode, and ip 450+ for e5 r
 aid.  Join us!</p><p> </p><p>Ceili</p>
DTSTAMP:20260421T150622
DTSTART;TZID=UTC:20200405T173000
DTEND;TZID=UTC:20200405T183000
SEQUENCE:0
TRANSP:OPAQUE
END:VEVENT
END:VCALENDAR