BEGIN:VCALENDAR
VERSION:2.0
PRODID:-//jEvents 2.0 for Joomla//EN
CALSCALE:GREGORIAN
METHOD:PUBLISH
BEGIN:VEVENT
UID:e47d4aae10d14b1b90565b634ee48c5b
CATEGORIES:PvE
CREATED:20200502T062418
SUMMARY:Lair - with Signup!
DESCRIPTION:Monday Lair - with sign up in our Noticeboard forum area. \nhttps://www.nin
 e-swords.com/forums/18 (forums/18)\n \n \n
X-ALT-DESC;FMTTYPE=text/html:<p>Monday Lair - with sign up in our Noticeboard forum area. </p><p><a href
 ="forums/18">https://www.nine-swords.com/forums/18</a></p><p> </p><p> </p>
DTSTAMP:20260421T213030
DTSTART;TZID=UTC:20200504T170000
DTEND;TZID=UTC:20200504T173000
SEQUENCE:0
TRANSP:OPAQUE
END:VEVENT
END:VCALENDAR