BEGIN:VCALENDAR
VERSION:2.0
PRODID:-//jEvents 2.0 for Joomla//EN
CALSCALE:GREGORIAN
METHOD:PUBLISH
BEGIN:VEVENT
UID:e3a1e75d4f741655b462c64abbfd75be
CATEGORIES:PvE
CREATED:20200505T171104
SUMMARY:Weekly NYR E10 (BURN)
DESCRIPTION:<p>Required 1k+ IP. This is our "burn" day. One potion, go hard or go home!
  The following are additional requirements to join:</p><p>DPS - 15k or grea
 ter</p><p>Support role (cleanse/OS/filth placer) - only need 1k+ ip</p><p>T
 anks - only need 1k+ ip and survival skills</p>
DTSTAMP:20260421T210116
DTSTART;TZID=UTC:20200506T183000
DTEND;TZID=UTC:20200506T190000
SEQUENCE:0
TRANSP:OPAQUE
END:VEVENT
END:VCALENDAR